BEGIN:VCALENDAR
VERSION:2.0
PRODID:-//Schleswig-Holsteinischer Ju-Jutsu-Verband e.V. - ECPv6.15.20//NONSGML v1.0//EN
CALSCALE:GREGORIAN
METHOD:PUBLISH
X-WR-CALNAME:Schleswig-Holsteinischer Ju-Jutsu-Verband e.V.
X-ORIGINAL-URL:https://www.shjjv.de
X-WR-CALDESC:Veranstaltungen für Schleswig-Holsteinischer Ju-Jutsu-Verband e.V.
REFRESH-INTERVAL;VALUE=DURATION:PT1H
X-Robots-Tag:noindex
X-PUBLISHED-TTL:PT1H
BEGIN:VTIMEZONE
TZID:Europe/Berlin
BEGIN:DAYLIGHT
TZOFFSETFROM:+0100
TZOFFSETTO:+0200
TZNAME:CEST
DTSTART:20240331T010000
END:DAYLIGHT
BEGIN:STANDARD
TZOFFSETFROM:+0200
TZOFFSETTO:+0100
TZNAME:CET
DTSTART:20241027T010000
END:STANDARD
BEGIN:DAYLIGHT
TZOFFSETFROM:+0100
TZOFFSETTO:+0200
TZNAME:CEST
DTSTART:20250330T010000
END:DAYLIGHT
BEGIN:STANDARD
TZOFFSETFROM:+0200
TZOFFSETTO:+0100
TZNAME:CET
DTSTART:20251026T010000
END:STANDARD
BEGIN:DAYLIGHT
TZOFFSETFROM:+0100
TZOFFSETTO:+0200
TZNAME:CEST
DTSTART:20260329T010000
END:DAYLIGHT
BEGIN:STANDARD
TZOFFSETFROM:+0200
TZOFFSETTO:+0100
TZNAME:CET
DTSTART:20261025T010000
END:STANDARD
END:VTIMEZONE
BEGIN:VEVENT
DTSTART;TZID=Europe/Berlin:20250201T140000
DTEND;TZID=Europe/Berlin:20250201T180000
DTSTAMP:20260420T132226
CREATED:20241027T165029Z
LAST-MODIFIED:20241219T082511Z
UID:8207-1738418400-1738432800@www.shjjv.de
SUMMARY:Landestechniklehrgang
DESCRIPTION:Landestechniklehrgang\nThema: Abwehr von Schlag- und Stoßangriffen\nInhalt: „Block-Check-Attack“ – Grundlagen zur Abwehr von Schlag- und Stoßangriffen\nReferent: Christian Groffmann\, 5. Dan Jiu-Jitsu \nZeit: Samstag\, 01. Februar 2025\, 14:00 Uhr bis 18:00 Uhr\nVeranstalter: Schleswig-Holsteinischer Ju-Jutsu Verband e.V.\nAusrichter: TSV Glinde\nOrt: Sporthalle Wiesenfeld\, Holstenkamp 31\, 21509 Glinde\nLeitung: Mark Harrer \nAnmeldung: Per E-Mail bis zum 25.01.2025 an Mark Harrer unter: jiujitsu@tsv-glinde.de \nAusschreibung\nLaTeLe 01.02.2025 in Glinde \nSei der Erste\, der diesen Beitrag teilt!
URL:https://www.shjjv.de/termin/jugendversammlung-2-2/
LOCATION:TSV Glinde\, Am Sportplatz 98a\, Glinde\, 21509\, Deutschland
CATEGORIES:Landes-/Bundeslehrgang
ORGANIZER;CN="SHJJV":MAILTO:breitensportreferent@shjjv.de
END:VEVENT
END:VCALENDAR