BEGIN:VCALENDAR
VERSION:2.0
PRODID:-//Schleswig-Holsteinischer Ju-Jutsu-Verband e.V. - ECPv6.15.20//NONSGML v1.0//EN
CALSCALE:GREGORIAN
METHOD:PUBLISH
X-WR-CALNAME:Schleswig-Holsteinischer Ju-Jutsu-Verband e.V.
X-ORIGINAL-URL:https://www.shjjv.de
X-WR-CALDESC:Veranstaltungen für Schleswig-Holsteinischer Ju-Jutsu-Verband e.V.
REFRESH-INTERVAL;VALUE=DURATION:PT1H
X-Robots-Tag:noindex
X-PUBLISHED-TTL:PT1H
BEGIN:VTIMEZONE
TZID:Europe/Berlin
BEGIN:DAYLIGHT
TZOFFSETFROM:+0100
TZOFFSETTO:+0200
TZNAME:CEST
DTSTART:20250330T010000
END:DAYLIGHT
BEGIN:STANDARD
TZOFFSETFROM:+0200
TZOFFSETTO:+0100
TZNAME:CET
DTSTART:20251026T010000
END:STANDARD
BEGIN:DAYLIGHT
TZOFFSETFROM:+0100
TZOFFSETTO:+0200
TZNAME:CEST
DTSTART:20260329T010000
END:DAYLIGHT
BEGIN:STANDARD
TZOFFSETFROM:+0200
TZOFFSETTO:+0100
TZNAME:CET
DTSTART:20261025T010000
END:STANDARD
BEGIN:DAYLIGHT
TZOFFSETFROM:+0100
TZOFFSETTO:+0200
TZNAME:CEST
DTSTART:20270328T010000
END:DAYLIGHT
BEGIN:STANDARD
TZOFFSETFROM:+0200
TZOFFSETTO:+0100
TZNAME:CET
DTSTART:20271031T010000
END:STANDARD
END:VTIMEZONE
BEGIN:VEVENT
DTSTART;TZID=Europe/Berlin:20260131T100000
DTEND;TZID=Europe/Berlin:20260131T160000
DTSTAMP:20260424T141435
CREATED:20251012T153030Z
LAST-MODIFIED:20260118T093029Z
UID:9575-1769853600-1769875200@www.shjjv.de
SUMMARY:Jugendversammlung
DESCRIPTION:Einladung zur Jugendversammlung\nZeit: Samstag\, 31.01.2026\, Uhrzeit 10:00 Uhr\nOrt: Schulstraße 13\, 23847 Lasbek \nTagesordnung: \n\nFeststellung der ordnungsgemäßen Einberufung und Stimmberechtigung\nGenehmigung des Protokolls der letzten Jugendversammlung\nJahresbericht der SHJJV-Jugendleitung\nEntlastung der Jugendleitung\nHaushaltsplan der SHJJV-Jugend\nTermine der SHJJV-Jugend\nOrt und Terminfestlegung der nächsten Jugendversammlung\nSonstiges\n\nUm Voranmeldung wird gebeten\, um die Verpflegung besser planen zu können. \nBitte denkt daran\, den Vertretungsnachweis Eures Vereins in schriftlicher Form mitzubringen (Vollmacht)\, da ihr sonst nicht stimmberechtigt seid. Liste von Vereinsvertretern\, die eine Dauervertretungsvollmacht haben ist vorhanden. Jedes Mitglied (Verein/Sparte) wird durch eine Person vertreten. \nGäste sind beim Jugendreferenten bis spätestens zehn Tage vorher per Mail anzumelden. \nBianca & L. Lennart Gebhardt\nJugendreferentin & Jugendvertreter\nSchleswig-Holsteinischer Ju-Jutsu Verband e. V. \nAnlagen\nEndgültige Einladung Jugendversammlung 2026\nVertretungsvollmacht \nSei der Erste\, der diesen Beitrag teilt!
URL:https://www.shjjv.de/termin/jugendversammlung-2/
LOCATION:Lasbek Gemeinschaftshaus\, Schulstr. 13\, Lasbek\, 23847\, Deutschland
CATEGORIES:Versammlung
ORGANIZER;CN="SHJJV":MAILTO:breitensportreferent@shjjv.de
END:VEVENT
END:VCALENDAR