BEGIN:VCALENDAR
VERSION:2.0
PRODID:-//Schleswig-Holsteinischer Ju-Jutsu-Verband e.V. - ECPv6.15.20//NONSGML v1.0//EN
CALSCALE:GREGORIAN
METHOD:PUBLISH
X-WR-CALNAME:Schleswig-Holsteinischer Ju-Jutsu-Verband e.V.
X-ORIGINAL-URL:https://www.shjjv.de
X-WR-CALDESC:Veranstaltungen für Schleswig-Holsteinischer Ju-Jutsu-Verband e.V.
REFRESH-INTERVAL;VALUE=DURATION:PT1H
X-Robots-Tag:noindex
X-PUBLISHED-TTL:PT1H
BEGIN:VTIMEZONE
TZID:Europe/Berlin
BEGIN:DAYLIGHT
TZOFFSETFROM:+0100
TZOFFSETTO:+0200
TZNAME:CEST
DTSTART:20230326T010000
END:DAYLIGHT
BEGIN:STANDARD
TZOFFSETFROM:+0200
TZOFFSETTO:+0100
TZNAME:CET
DTSTART:20231029T010000
END:STANDARD
BEGIN:DAYLIGHT
TZOFFSETFROM:+0100
TZOFFSETTO:+0200
TZNAME:CEST
DTSTART:20240331T010000
END:DAYLIGHT
BEGIN:STANDARD
TZOFFSETFROM:+0200
TZOFFSETTO:+0100
TZNAME:CET
DTSTART:20241027T010000
END:STANDARD
BEGIN:DAYLIGHT
TZOFFSETFROM:+0100
TZOFFSETTO:+0200
TZNAME:CEST
DTSTART:20250330T010000
END:DAYLIGHT
BEGIN:STANDARD
TZOFFSETFROM:+0200
TZOFFSETTO:+0100
TZNAME:CET
DTSTART:20251026T010000
END:STANDARD
END:VTIMEZONE
BEGIN:VEVENT
DTSTART;TZID=Europe/Berlin:20241018T080000
DTEND;TZID=Europe/Berlin:20241019T170000
DTSTAMP:20260420T132422
CREATED:20241013T194129Z
LAST-MODIFIED:20241013T194225Z
UID:8086-1729238400-1729357200@www.shjjv.de
SUMMARY:Landeskader-Trainingslager
DESCRIPTION:Sei der Erste\, der diesen Beitrag teilt!
URL:https://www.shjjv.de/termin/landeskader-trainingslager/
LOCATION:Sport- und Bildungszentrum Malente\, Eutiner Str. 45\, Malente\, 23714
CATEGORIES:Kader
ORGANIZER;CN="SHJJV Wettkampf":MAILTO:leistungssportreferent@shjjv.de
GEO:54.163812;10.562687
X-APPLE-STRUCTURED-LOCATION;VALUE=URI;X-ADDRESS=Sport- und Bildungszentrum Malente Eutiner Str. 45 Malente 23714;X-APPLE-RADIUS=500;X-TITLE=Eutiner Str. 45:geo:10.562687,54.163812
END:VEVENT
END:VCALENDAR