BEGIN:VCALENDAR
VERSION:2.0
PRODID:-//Schleswig-Holsteinischer Ju-Jutsu-Verband e.V. - ECPv6.15.20//NONSGML v1.0//EN
CALSCALE:GREGORIAN
METHOD:PUBLISH
X-WR-CALNAME:Schleswig-Holsteinischer Ju-Jutsu-Verband e.V.
X-ORIGINAL-URL:https://www.shjjv.de
X-WR-CALDESC:Veranstaltungen für Schleswig-Holsteinischer Ju-Jutsu-Verband e.V.
REFRESH-INTERVAL;VALUE=DURATION:PT1H
X-Robots-Tag:noindex
X-PUBLISHED-TTL:PT1H
BEGIN:VTIMEZONE
TZID:Europe/Berlin
BEGIN:DAYLIGHT
TZOFFSETFROM:+0100
TZOFFSETTO:+0200
TZNAME:CEST
DTSTART:20230326T010000
END:DAYLIGHT
BEGIN:STANDARD
TZOFFSETFROM:+0200
TZOFFSETTO:+0100
TZNAME:CET
DTSTART:20231029T010000
END:STANDARD
BEGIN:DAYLIGHT
TZOFFSETFROM:+0100
TZOFFSETTO:+0200
TZNAME:CEST
DTSTART:20240331T010000
END:DAYLIGHT
BEGIN:STANDARD
TZOFFSETFROM:+0200
TZOFFSETTO:+0100
TZNAME:CET
DTSTART:20241027T010000
END:STANDARD
BEGIN:DAYLIGHT
TZOFFSETFROM:+0100
TZOFFSETTO:+0200
TZNAME:CEST
DTSTART:20250330T010000
END:DAYLIGHT
BEGIN:STANDARD
TZOFFSETFROM:+0200
TZOFFSETTO:+0100
TZNAME:CET
DTSTART:20251026T010000
END:STANDARD
END:VTIMEZONE
BEGIN:VEVENT
DTSTART;TZID=Europe/Berlin:20241015T200000
DTEND;TZID=Europe/Berlin:20241015T220000
DTSTAMP:20260420T145139
CREATED:20240917T151250Z
LAST-MODIFIED:20240917T151250Z
UID:10000708-1729022400-1729029600@www.shjjv.de
SUMMARY:Landesstützpunkttraining Ne-Waza & BJJ
DESCRIPTION:Landesstützpunkttraining Ne-Waza & BJJ\n(Stützpunkttraining für Bodenkampf & Brazilian Jiu-Jitsu) \nReferent: Philipp Wolf\, 2. Dan Black Belt Gracie / Brazilian Jiu-Jitsu\, 6. Dan Ju-Jutsu\, Bundesprüfer BJJ im DJJV BJJ-Beauftragter des SHJJV\, Mitglied im Bundes-Lehrteam Ju-Jutsu und BJJ des DJJV \nZeit/Datum: Dienstags von 20.00 Uhr bis 22.00 Uhr an folgenden Tagen: (2. Jahreshälfte)\n17.09.2024 / 15.10.2024 / 12.11.2024 / 03.12.2024\nVeranstalter: Schleswig-Holsteinischer Ju-Jutsu Verband e.V.\nAusrichter: TSV Neustadt in Holstein (Abteilung Brazilian Jiu-Jitsu)\nOrt: Sporthalle des Küstengymnasiums Neustadt in Holstein\, 23730 Neustadt in Holstein \nZielgruppe: Alle interessierten Mitglieder des SHJJV (ab 16 Jahren) sowie Interessierte Sportler/innen aus artverwandten Sportarten (Ju-Jutsu\, Jiu-Jitsu\, Judo\, Luta Livre etc.)\nKosten: für Sportler(innen) mit DJJV-Beitragsmarke 2023/2024: Keine \nAnmeldung: Voranmeldung erforderlich bei Philipp Wolf unter info@bjj-neustadt.de \nAusschreibung\nAusschreibung Stützpunttraining BJJ NeWaza und Boden 2-2024 \nSei der Erste\, der diesen Beitrag teilt!
URL:https://www.shjjv.de/termin/landesstuetzpunkttraining-ne-waza-bjj/2024-10-15/
CATEGORIES:Landesstützpunkttraining
ORGANIZER;CN="SHJJV":MAILTO:breitensportreferent@shjjv.de
END:VEVENT
END:VCALENDAR