BEGIN:VCALENDAR
VERSION:2.0
PRODID:-//Schleswig-Holsteinischer Ju-Jutsu-Verband e.V. - ECPv6.15.20//NONSGML v1.0//EN
CALSCALE:GREGORIAN
METHOD:PUBLISH
X-WR-CALNAME:Schleswig-Holsteinischer Ju-Jutsu-Verband e.V.
X-ORIGINAL-URL:https://www.shjjv.de
X-WR-CALDESC:Veranstaltungen für Schleswig-Holsteinischer Ju-Jutsu-Verband e.V.
REFRESH-INTERVAL;VALUE=DURATION:PT1H
X-Robots-Tag:noindex
X-PUBLISHED-TTL:PT1H
BEGIN:VTIMEZONE
TZID:Europe/Berlin
BEGIN:DAYLIGHT
TZOFFSETFROM:+0100
TZOFFSETTO:+0200
TZNAME:CEST
DTSTART:20240331T010000
END:DAYLIGHT
BEGIN:STANDARD
TZOFFSETFROM:+0200
TZOFFSETTO:+0100
TZNAME:CET
DTSTART:20241027T010000
END:STANDARD
BEGIN:DAYLIGHT
TZOFFSETFROM:+0100
TZOFFSETTO:+0200
TZNAME:CEST
DTSTART:20250330T010000
END:DAYLIGHT
BEGIN:STANDARD
TZOFFSETFROM:+0200
TZOFFSETTO:+0100
TZNAME:CET
DTSTART:20251026T010000
END:STANDARD
BEGIN:DAYLIGHT
TZOFFSETFROM:+0100
TZOFFSETTO:+0200
TZNAME:CEST
DTSTART:20260329T010000
END:DAYLIGHT
BEGIN:STANDARD
TZOFFSETFROM:+0200
TZOFFSETTO:+0100
TZNAME:CET
DTSTART:20261025T010000
END:STANDARD
END:VTIMEZONE
BEGIN:VEVENT
DTSTART;VALUE=DATE:20250328
DTEND;VALUE=DATE:20250331
DTSTAMP:20260420T115725
CREATED:20241027T165502Z
LAST-MODIFIED:20241208T095233Z
UID:8226-1743120000-1743379199@www.shjjv.de
SUMMARY:Kursleiter/-innen Ausbildung Teil 1 & Teil 2 „Nicht-mit-mir!“
DESCRIPTION:JUJU ACADEMY – KOOPERATION SHJJV 2025\nKursleiter/-innen Ausbildung Teil 1 & Teil 2 „Nicht-mit-mir!“\nVeranstalter: Jugend im Deutschen Ju-Jutsu Verband e.V.\nAusrichter: Schleswig-Holsteinischer Ju-Jutsu Verband e.V.\nDatum: Teil 1: 28.-30.03.2025 / Teil 2: 09.-11.05.2025\nOnline: 2 Einheiten online nach Absprache mit Teilnehmenden\nOrt: SV Grönwohld\, Bahnhofstraße 3\, 22956 Grönwohld \nWer: Jugendleiter/-innen\, Mitarbeiter/-innen der Jugendarbeit\, Trainer/-innen\nLeistung: theoretische & praktische Unterrichte\, Diskussionen\, Lizenz bei erfolgreichem Abschluss\, Zugang zur Online-Lernplattform MOODLE\, ohne Unterkunft und Verpflegung \nThemen: Grundwissen des Kurssystems “Nicht-mit-mir! – Starke Kinder schützen sich!”\, Grundwissen Prävention sexualisierter Gewalt\, Kursaufbau\, Ampelprinzip\, Deeskalation & Intervention\,\nMethodenvermittlung\, Vorstellung der Kursmaterialien \nLeitung: Heiko Kupke\, Lehrbeauftragter „Nicht-mit-mir!“ DJJV \nMeldung: bis 14.03.2025 an Jugendvertreterin Bianca Gebhardt: jugendvertreter@shjjv.de \nAusschreibung\nAusschreibung_NiMi_Teil1&2_2025_SHJJV_JuJu_Academy \nSei der Erste\, der diesen Beitrag teilt!
URL:https://www.shjjv.de/termin/nicht-mit-mir-ausbildung/
LOCATION:SV Grönwohld\, Bahnhofstr. 3\, Grönwohld\, 22956
CATEGORIES:Aus- und Fortbildung
ORGANIZER;CN="SHJJV":MAILTO:breitensportreferent@shjjv.de
END:VEVENT
END:VCALENDAR