BEGIN:VCALENDAR
VERSION:2.0
PRODID:-//Schleswig-Holsteinischer Ju-Jutsu-Verband e.V. - ECPv6.15.20//NONSGML v1.0//EN
CALSCALE:GREGORIAN
METHOD:PUBLISH
X-WR-CALNAME:Schleswig-Holsteinischer Ju-Jutsu-Verband e.V.
X-ORIGINAL-URL:https://www.shjjv.de
X-WR-CALDESC:Veranstaltungen für Schleswig-Holsteinischer Ju-Jutsu-Verband e.V.
REFRESH-INTERVAL;VALUE=DURATION:PT1H
X-Robots-Tag:noindex
X-PUBLISHED-TTL:PT1H
BEGIN:VTIMEZONE
TZID:Europe/Berlin
BEGIN:DAYLIGHT
TZOFFSETFROM:+0100
TZOFFSETTO:+0200
TZNAME:CEST
DTSTART:20230326T010000
END:DAYLIGHT
BEGIN:STANDARD
TZOFFSETFROM:+0200
TZOFFSETTO:+0100
TZNAME:CET
DTSTART:20231029T010000
END:STANDARD
BEGIN:DAYLIGHT
TZOFFSETFROM:+0100
TZOFFSETTO:+0200
TZNAME:CEST
DTSTART:20240331T010000
END:DAYLIGHT
BEGIN:STANDARD
TZOFFSETFROM:+0200
TZOFFSETTO:+0100
TZNAME:CET
DTSTART:20241027T010000
END:STANDARD
BEGIN:DAYLIGHT
TZOFFSETFROM:+0100
TZOFFSETTO:+0200
TZNAME:CEST
DTSTART:20250330T010000
END:DAYLIGHT
BEGIN:STANDARD
TZOFFSETFROM:+0200
TZOFFSETTO:+0100
TZNAME:CET
DTSTART:20251026T010000
END:STANDARD
END:VTIMEZONE
BEGIN:VEVENT
DTSTART;TZID=Europe/Berlin:20240503T200000
DTEND;TZID=Europe/Berlin:20240503T213000
DTSTAMP:20260420T165522
CREATED:20240104T092706Z
LAST-MODIFIED:20240821T151114Z
UID:10000682-1714766400-1714771800@www.shjjv.de
SUMMARY:Offenes Training / Landeszentraltraining
DESCRIPTION:Offenes Training / Landeszentraltraining\nThema: Neues Prüfungsprogramm Ju-Jutsu\nZeit: 2.2.24\, 1.3.24\, 5.4.24\, 3.5.24\, 7.6.24\, 5.7.24\, 6.9.24\, 4.10.24\, 1.11.24\, 6.12.24\nJeweils Freitag\, 20:00 – 21:30 Uhr \nIm Rahmen des Vereinstrainings im Lübecker Judo Club e.V. werden zu den genannten Terminen die neuen Aufgabenstellungen und mögliche Lösungen dazu im neuen Prüfungsprogramm Ju-Jutsu trainiert und Fragen geklärt. Für diese Trainingseinheiten sind Mitglieder anderer Vereine herzlich eingeladen. \nOrt: Dojo des Lübecker Judo Club e.V.\, Falkenstraße 39\, 23564 Lübeck\nLeitung/Referent: Jens Dykow\, 7. Dan Ju-Jutsu (Prüfungsreferent SHJJV) \nAnmeldung: Um vorherige Anmeldung per Email an pruefungsreferent@shjjv.de wird gebeten\, umdie Planung zu erleichtern\, insbesondere wenn es spezielle Themenwünsche gibt. \nAusschreibung\nOffenes Training_Landeszentraltraining 2024 in Lübeck_LJC \nSei der Erste\, der diesen Beitrag teilt!
URL:https://www.shjjv.de/termin/offenes-training-landeszentraltraining/2024-05-03/
LOCATION:LJC Lübeck\, Falkenstraße 39\, Lübeck\, 23564
CATEGORIES:Kader
ORGANIZER;CN="SHJJV":MAILTO:breitensportreferent@shjjv.de
END:VEVENT
END:VCALENDAR