BEGIN:VCALENDAR
VERSION:2.0
PRODID:-//Schleswig-Holsteinischer Ju-Jutsu-Verband e.V. - ECPv6.15.20//NONSGML v1.0//EN
CALSCALE:GREGORIAN
METHOD:PUBLISH
X-WR-CALNAME:Schleswig-Holsteinischer Ju-Jutsu-Verband e.V.
X-ORIGINAL-URL:https://www.shjjv.de
X-WR-CALDESC:Veranstaltungen für Schleswig-Holsteinischer Ju-Jutsu-Verband e.V.
REFRESH-INTERVAL;VALUE=DURATION:PT1H
X-Robots-Tag:noindex
X-PUBLISHED-TTL:PT1H
BEGIN:VTIMEZONE
TZID:Europe/Berlin
BEGIN:DAYLIGHT
TZOFFSETFROM:+0100
TZOFFSETTO:+0200
TZNAME:CEST
DTSTART:20250330T010000
END:DAYLIGHT
BEGIN:STANDARD
TZOFFSETFROM:+0200
TZOFFSETTO:+0100
TZNAME:CET
DTSTART:20251026T010000
END:STANDARD
BEGIN:DAYLIGHT
TZOFFSETFROM:+0100
TZOFFSETTO:+0200
TZNAME:CEST
DTSTART:20260329T010000
END:DAYLIGHT
BEGIN:STANDARD
TZOFFSETFROM:+0200
TZOFFSETTO:+0100
TZNAME:CET
DTSTART:20261025T010000
END:STANDARD
BEGIN:DAYLIGHT
TZOFFSETFROM:+0100
TZOFFSETTO:+0200
TZNAME:CEST
DTSTART:20270328T010000
END:DAYLIGHT
BEGIN:STANDARD
TZOFFSETFROM:+0200
TZOFFSETTO:+0100
TZNAME:CET
DTSTART:20271031T010000
END:STANDARD
END:VTIMEZONE
BEGIN:VEVENT
DTSTART;TZID=Europe/Berlin:20260131T100000
DTEND;TZID=Europe/Berlin:20260131T170000
DTSTAMP:20260424T101338
CREATED:20251003T153052Z
LAST-MODIFIED:20251012T160902Z
UID:9493-1769853600-1769878800@www.shjjv.de
SUMMARY:Prüferlizenzausbildung Ju-Jutsu
DESCRIPTION:Prüferlizenzausbildung Ju-Jutsu\nThema: Neuausbildung zur Prüferlizenz Ju-Jutsu \nZeit: Samstag\, 31. Januar 2026\, 10:00 Uhr bis ca. 17:00 Uhr \nVeranstalter: Schleswig-Holsteinischer Ju-Jutsu Verband e.V. \nDurchführung: Zum Erwerb der Prüferlizenz muss vor dem 31.1.2026 eine Online-Schulung durchge-arbeitet werden. Am 31.1. ist ein gemeinsamer Präsenztermin auf der Matte. \nAusrichter: wird gesucht; Bewerbungen bitte an pruefungsreferent@shjjv.de\nOrt: noch offen\nLeitung: Jens Dykow (Prüfungsreferent) \nAnmeldung: Bis 17.1.2026 an pruefungsreferent@shjjv.de unter Angabe einer E-Mailadresse (für den Zugang zur Online-Schulung). Wer sich früher anmeldet\, hat mehr Zeit für die Durcharbeitung der Online-Schulung. \nAusschreibung\n31.01.2026 – Prüferlizenzneuausbildung in Lübeck \nSei der Erste\, der diesen Beitrag teilt!
URL:https://www.shjjv.de/termin/prueferlizenzausbildung-ju-jutsu/
LOCATION:LJC Lübeck\, Falkenstraße 39\, Lübeck\, 23564
CATEGORIES:Aus- und Fortbildung
ORGANIZER;CN="SHJJV":MAILTO:breitensportreferent@shjjv.de
END:VEVENT
END:VCALENDAR