BEGIN:VCALENDAR
VERSION:2.0
PRODID:-//Schleswig-Holsteinischer Ju-Jutsu-Verband e.V. - ECPv6.15.20//NONSGML v1.0//EN
CALSCALE:GREGORIAN
METHOD:PUBLISH
X-WR-CALNAME:Schleswig-Holsteinischer Ju-Jutsu-Verband e.V.
X-ORIGINAL-URL:https://www.shjjv.de
X-WR-CALDESC:Veranstaltungen für Schleswig-Holsteinischer Ju-Jutsu-Verband e.V.
REFRESH-INTERVAL;VALUE=DURATION:PT1H
X-Robots-Tag:noindex
X-PUBLISHED-TTL:PT1H
BEGIN:VTIMEZONE
TZID:Europe/Berlin
BEGIN:DAYLIGHT
TZOFFSETFROM:+0100
TZOFFSETTO:+0200
TZNAME:CEST
DTSTART:20250330T010000
END:DAYLIGHT
BEGIN:STANDARD
TZOFFSETFROM:+0200
TZOFFSETTO:+0100
TZNAME:CET
DTSTART:20251026T010000
END:STANDARD
BEGIN:DAYLIGHT
TZOFFSETFROM:+0100
TZOFFSETTO:+0200
TZNAME:CEST
DTSTART:20260329T010000
END:DAYLIGHT
BEGIN:STANDARD
TZOFFSETFROM:+0200
TZOFFSETTO:+0100
TZNAME:CET
DTSTART:20261025T010000
END:STANDARD
BEGIN:DAYLIGHT
TZOFFSETFROM:+0100
TZOFFSETTO:+0200
TZNAME:CEST
DTSTART:20270328T010000
END:DAYLIGHT
BEGIN:STANDARD
TZOFFSETFROM:+0200
TZOFFSETTO:+0100
TZNAME:CET
DTSTART:20271031T010000
END:STANDARD
END:VTIMEZONE
BEGIN:VEVENT
DTSTART;TZID=Europe/Berlin:20260620T100000
DTEND;TZID=Europe/Berlin:20260620T170000
DTSTAMP:20260419T143836
CREATED:20251012T154806Z
LAST-MODIFIED:20260418T153433Z
UID:9632-1781949600-1781974800@www.shjjv.de
SUMMARY:Trainerfortbildung I
DESCRIPTION:Trainerfortbildung\nThema: Die Sinne schärfen (Über verbesserte Sensorik zu verbesserter Motorik) – Einführung in das Neuroathletik-Training –\nReferent: Jörg Preuße\, 6. Dan Ju-Jutsu \nZeit: Samstag\, 20. Juni 2026\, 10:00 Uhr bis 17:00 Uhr\nVeranstalter: Schleswig-Holsteinischer Ju-Jutsu Verband e.V.\nAusrichter: Schleswig-Holsteinischer Ju-Jutsu Verband e.V.\nOrt: Sporthalle Grundschule Heidgraben\, Uetersener Str 3a\,25436 Heidgraben\nLeitung: Rinke Karina Schmidt – Lehrreferentin des SHJJV \nAnmeldung: Per E-Mail bis zum 06.06.2026 an Rinke unter lehrreferent@shjjv.de \nAusschreibung\nTrainerfortbildung am 20.06.2026 in Heidgraben \nSei der Erste\, der diesen Beitrag teilt!
URL:https://www.shjjv.de/termin/trainerfortbildung-i/
LOCATION:Heidgrabener SV\, Uetersener Straße 3a\, Heidgraben\, 25436
CATEGORIES:Aus- und Fortbildung
ORGANIZER;CN="SHJJV":MAILTO:breitensportreferent@shjjv.de
END:VEVENT
END:VCALENDAR