BEGIN:VCALENDAR
VERSION:2.0
PRODID:-//Schleswig-Holsteinischer Ju-Jutsu-Verband e.V. - ECPv6.15.20//NONSGML v1.0//EN
CALSCALE:GREGORIAN
METHOD:PUBLISH
X-WR-CALNAME:Schleswig-Holsteinischer Ju-Jutsu-Verband e.V.
X-ORIGINAL-URL:https://www.shjjv.de
X-WR-CALDESC:Veranstaltungen für Schleswig-Holsteinischer Ju-Jutsu-Verband e.V.
REFRESH-INTERVAL;VALUE=DURATION:PT1H
X-Robots-Tag:noindex
X-PUBLISHED-TTL:PT1H
BEGIN:VTIMEZONE
TZID:Europe/Berlin
BEGIN:DAYLIGHT
TZOFFSETFROM:+0100
TZOFFSETTO:+0200
TZNAME:CEST
DTSTART:20240331T010000
END:DAYLIGHT
BEGIN:STANDARD
TZOFFSETFROM:+0200
TZOFFSETTO:+0100
TZNAME:CET
DTSTART:20241027T010000
END:STANDARD
BEGIN:DAYLIGHT
TZOFFSETFROM:+0100
TZOFFSETTO:+0200
TZNAME:CEST
DTSTART:20250330T010000
END:DAYLIGHT
BEGIN:STANDARD
TZOFFSETFROM:+0200
TZOFFSETTO:+0100
TZNAME:CET
DTSTART:20251026T010000
END:STANDARD
BEGIN:DAYLIGHT
TZOFFSETFROM:+0100
TZOFFSETTO:+0200
TZNAME:CEST
DTSTART:20260329T010000
END:DAYLIGHT
BEGIN:STANDARD
TZOFFSETFROM:+0200
TZOFFSETTO:+0100
TZNAME:CET
DTSTART:20261025T010000
END:STANDARD
END:VTIMEZONE
BEGIN:VEVENT
DTSTART;VALUE=DATE:20250501
DTEND;VALUE=DATE:20250502
DTSTAMP:20260420T152127
CREATED:20221216T063835Z
LAST-MODIFIED:20231001T091953Z
UID:10000601-1746057600-1746143999@www.shjjv.de
SUMMARY:Tag der Arbeit
DESCRIPTION:Sei der Erste\, der diesen Beitrag teilt!
URL:https://www.shjjv.de/termin/tag-der-arbeit/2025-05-01/
CATEGORIES:Feiertag
END:VEVENT
BEGIN:VEVENT
DTSTART;VALUE=DATE:20250501
DTEND;VALUE=DATE:20250505
DTSTAMP:20260420T152127
CREATED:20241211T074929Z
LAST-MODIFIED:20250119T163826Z
UID:10000772-1746057600-1746403199@www.shjjv.de
SUMMARY:Trainingslager
DESCRIPTION:Sei der Erste\, der diesen Beitrag teilt!
URL:https://www.shjjv.de/termin/trainingslager/
CATEGORIES:Kader
ORGANIZER;CN="SHJJV Wettkampf":MAILTO:leistungssportreferent@shjjv.de
END:VEVENT
BEGIN:VEVENT
DTSTART;TZID=Europe/Berlin:20250503T140000
DTEND;TZID=Europe/Berlin:20250503T180000
DTSTAMP:20260420T152127
CREATED:20241027T165750Z
LAST-MODIFIED:20250307T180007Z
UID:10000734-1746280800-1746295200@www.shjjv.de
SUMMARY:Landestechniklehrgang Prüfungsvorbereitung
DESCRIPTION:Landestechniklehrgang\nThema: Prüfungsvorbereitung zur Landesprüfung\nInhalt: Schwerpunkte aus dem Prüfungsprogramm Ju-Jutsu 2. Kyu bis 5. Dan\nReferent: Jens Dykow\, 7. Dan Ju-Jutsu \nZeit: Samstag\, 3. Mai 2025\, 14:00 Uhr bis 18:00 Uhr\nVeranstalter: Schleswig-Holsteinischer Ju-Jutsu Verband e.V.\nAusrichter: TuS Lübeck von 1893 e.V.\nOrt: Sporthalle in der Adolf-Ehrtmann-Straße\, 23566 Lübeck\nLeitung: Torsten Neubauer \nAnmeldung: Per E-Mail bis zum 26. April 2025 an jujutsu@tus-luebeck.de \nAusschreibung\nLaTeLe 03.05.2025 in Lübeck_TuS \nSei der Erste\, der diesen Beitrag teilt!
URL:https://www.shjjv.de/termin/landestechniklehrgang-pruefungsvorbereitung/
LOCATION:TuS Lübeck\, Schlutuper Str. 37\, Lübeck\, 23556
CATEGORIES:Landes-/Bundeslehrgang
ORGANIZER;CN="SHJJV":MAILTO:breitensportreferent@shjjv.de
END:VEVENT
BEGIN:VEVENT
DTSTART;VALUE=DATE:20250509
DTEND;VALUE=DATE:20250512
DTSTAMP:20260420T152127
CREATED:20241027T170039Z
LAST-MODIFIED:20241208T095154Z
UID:10000735-1746748800-1747007999@www.shjjv.de
SUMMARY:Kursleiter/-innen Ausbildung Teil 1 & Teil 2 „Nicht-mit-mir!“
DESCRIPTION:JUJU ACADEMY – KOOPERATION SHJJV 2025\nKursleiter/-innen Ausbildung Teil 1 & Teil 2 „Nicht-mit-mir!“\nVeranstalter: Jugend im Deutschen Ju-Jutsu Verband e.V.\nAusrichter: Schleswig-Holsteinischer Ju-Jutsu Verband e.V.\nDatum: Teil 1: 28.-30.03.2025 / Teil 2: 09.-11.05.2025\nOnline: 2 Einheiten online nach Absprache mit Teilnehmenden\nOrt: SV Grönwohld\, Bahnhofstraße 3\, 22956 Grönwohld \nWer: Jugendleiter/-innen\, Mitarbeiter/-innen der Jugendarbeit\, Trainer/-innen\nLeistung: theoretische & praktische Unterrichte\, Diskussionen\, Lizenz bei erfolgreichem Abschluss\, Zugang zur Online-Lernplattform MOODLE\, ohne Unterkunft und Verpflegung \nThemen: Grundwissen des Kurssystems “Nicht-mit-mir! – Starke Kinder schützen sich!”\, Grundwissen Prävention sexualisierter Gewalt\, Kursaufbau\, Ampelprinzip\, Deeskalation & Intervention\,\nMethodenvermittlung\, Vorstellung der Kursmaterialien \nLeitung: Heiko Kupke\, Lehrbeauftragter „Nicht-mit-mir!“ DJJV \nMeldung: bis 14.03.2025 an Jugendvertreterin Bianca Gebhardt: jugendvertreter@shjjv.de \nAusschreibung\nAusschreibung_NiMi_Teil1&2_2025_SHJJV_JuJu_Academy \nSei der Erste\, der diesen Beitrag teilt!
URL:https://www.shjjv.de/termin/nicht-mit-mir-ausbildung-2/
LOCATION:SV Grönwohld\, Bahnhofstr. 3\, Grönwohld\, 22956
CATEGORIES:Aus- und Fortbildung
ORGANIZER;CN="SHJJV":MAILTO:breitensportreferent@shjjv.de
END:VEVENT
BEGIN:VEVENT
DTSTART;TZID=Europe/Berlin:20250513T200000
DTEND;TZID=Europe/Berlin:20250513T220000
DTSTAMP:20260420T152127
CREATED:20241231T114032Z
LAST-MODIFIED:20250427T163158Z
UID:10000792-1747166400-1747173600@www.shjjv.de
SUMMARY:Landesstützpunkttraining Ne-Waza & BJJ
DESCRIPTION:Landesstützpunkttraining Ne-Waza & BJJ 2025\n(Stützpunkttraining für Bodenkampf & Brazilian Jiu-Jitsu)\nDas Stützpunkttraining soll allen am Bodenkampf / Ne-Waza und / oder BJJ interessierten Sportler/innen die Möglichkeit bieten\, regelmäßig\, gemeinsam und unter Anleitung folgende Inhalte zu erweitern: \n\nErlernen des Stils “Brazilian Jiu-Jitsu” (nach Vorgaben des Prüfungsprogrammes BJJ 2023 des DJJV)\nLeistungsüberprüfung / Graduierungen im BJJ möglich (nach Absprache!)\nErwerb von stilübergreifenden Grundfertigkeiten im Bereich der Bodentechniken\nErwerb der Prüferlizenz für die “Pet-Patches” des DJV (mind. 3. Kyu Ju-Jutsu/Jiu-Jitsu oder Blue Belt BJJ)\nErlernen und Vertiefen der Boden-Inhalte des (neuen/aktuellen) Ju-Jutsu Prüfungsprogramms\n\nReferent: Philipp Wolf\, 2. Dan Black Belt Gracie / Brazilian Jiu-Jitsu\, 6. Dan Ju-Jutsu \nZeit/Datum: Dienstags von 20.00 Uhr bis 22.00 Uhr an folgenden Tagen:\n14.01.2025 / 11.02.2025 / 11.03.2025 / 08.04.2025 / 13.05.2024 / 24.06.2025 / 16.09.2025 / 11.11.2025 / 02.12.2025 \nVeranstalter: Schleswig-Holsteinischer Ju-Jutsu Verband e.V.\nAusrichter: TSV Neustadt in Holstein (Abteilung Brazilian Jiu-Jitsu)\nOrt: Sporthalle des Küstengymnasiums Neustadt in Holstein\, 23730 Neustadt in Holstein \nZielgruppe: Alle interessierten Mitglieder des SHJJV (ab 16 Jahren) sowie Interessierte Sportler/innen aus artverwandten Sportarten (Ju-Jutsu\, Jiu-Jitsu\, Judo\, Luta Livre etc.)\nKosten: für Sportler(innen) mit DJJV-Beitragsmarke 2024/2025: Keine \nAnmeldung: Voranmeldung erforderlich bei Philipp Wolf unter info@bjj-neustadt.de \nAusschreibung\nAusschreibung Stützpunttraining BJJ NeWaza und Boden 2025 \nSei der Erste\, der diesen Beitrag teilt!
URL:https://www.shjjv.de/termin/8677/2025-05-13/
LOCATION:TSV Neustadt\, Waschgrabenallee 18\, Neustadt in Holstein\, 23730\, Deutschland
CATEGORIES:Landesstützpunkttraining
ORGANIZER;CN="SHJJV":MAILTO:breitensportreferent@shjjv.de
END:VEVENT
BEGIN:VEVENT
DTSTART;TZID=Europe/Berlin:20250517T100000
DTEND;TZID=Europe/Berlin:20250517T150000
DTSTAMP:20260420T152127
CREATED:20241216T104958Z
LAST-MODIFIED:20241216T104958Z
UID:10000787-1747476000-1747494000@www.shjjv.de
SUMMARY:Landeslehrgang für Behörden
DESCRIPTION:Landeslehrgang für Behörden\nThema: Dienstliches Einsatztraining für Vollzugsbeamte/-beamtinnen. Fallschule mit Weste\, 1. Hilfe bei Schuss Verletzung und Escapes im\nBodenkampf.\nReferent: Herbert Bünning\, 6. Dan Ju-Jutsu / Philipp Wolf\, 6. Dan Ju-Jutsu / Christian Dost\, 2. Dan Ju-Jutsu / Armin Fischer\, San-Ausbilder \nZeit: Samstag\, 17. Mai 2025\, 10:00 Uhr bis 15:00 Uhr (mit Pause)\nVeranstalter: Schleswig-Holsteinischer Ju-Jutsu Verband e.V.\nAusrichter: Turn- und Sportverein Heiligenhafen von 1889 e.V.\nOrt: Turnhalle am Kunstrasenplatz\, Lütjenburger Weg\, 23774 Heiligenhafen\nLeitung: Herbert Bünning \nAnmeldung: Per E-Mail bis zum 10. Mai 2025 an Herbert Bünning unter: hbuenning@aol.com \nBei der Anmeldung bitte die jeweilige Behörde / Dienststelle mit angeben. Um rechtzeitige Anmeldung wird gebeten. Die Teilnehmerzahl ist auf 50 Personen begrenzt. \nAusschreibung\nLaLe Behörden 17.05.2025 in Heiligenhafen \nSei der Erste\, der diesen Beitrag teilt!
URL:https://www.shjjv.de/termin/landeslehrgang-fuer-behoerden-2/
LOCATION:TSV Heiligenhafen\, Lütjenburger Weg 12\, Heiligenhafen\, 23774\, Deutschland
CATEGORIES:Landes-/Bundeslehrgang
ORGANIZER;CN="SHJJV":MAILTO:breitensportreferent@shjjv.de
END:VEVENT
BEGIN:VEVENT
DTSTART;TZID=Europe/Berlin:20250517T130000
DTEND;TZID=Europe/Berlin:20250517T180000
DTSTAMP:20260420T152127
CREATED:20241027T170154Z
LAST-MODIFIED:20250314T135010Z
UID:10000737-1747486800-1747504800@www.shjjv.de
SUMMARY:Prüfungsvorbereitungslehrgang Jiu-Jitsu
DESCRIPTION:Landestechniklehrgang\nThema: Prüfungsvorbereitungslehrgang Jiu-Jitsu\nInhalt: Fehlererkennungen aus Jiu-Jitsu-Prüfungen bei Technikausführungen wie z. B. bei: Grund-\, Festlege-\, und Transporttechniken\, Wurftechniken mit Umsetzen in die SV\,Abwehren mit und ohne Kontakt und Waffenabwehren\nReferent: Peter Schneider\, 10. Dan Jiu-Jitsu\, Referent Jiu-Jitsu im SHJJV e. V. \nZeit: Samstag\, 17. Mai 2025\, Lehrgang: 13.00 Uhr – 18.00 Uhr\, Anmeldung: Ab 12.30 Uhr\nVeranstalter: Schleswig-Holsteinischer Ju-Jutsu Verband e.V.\nAusrichter: KFUM og K’s „IF“ Flensborg Judo og Jiu-Jitsu Afdeling e. V.\nOrt: Idrätshalle\, Flensburg\, Moltkestraße 20\nHinweis: Bei der Parkplatzeinfahrt muss eine Parkkarte gezogen werden\, die in der Halle gestempelt wird. Dann ist das Parken kostenlos!\nLeitung: Peter Schneider\, Referent Jiu-Jitsu SHJJV e. V. \nAnmeldung: Per E-Mail bis zum 07.05.2025 an Peter Schneider unter: jiu-referent@shjjv.de \nAusschreibung\nLaTeLe 17.05.2025 in Flensburg \nSei der Erste\, der diesen Beitrag teilt!
URL:https://www.shjjv.de/termin/pruefungsvorbereitungslehrgang-jiu-jitsu/
LOCATION:KFuM Flensborg\, Moltkestraße 20c\, Flensburg\, 24937
CATEGORIES:Landes-/Bundeslehrgang
ORGANIZER;CN="SHJJV":MAILTO:breitensportreferent@shjjv.de
END:VEVENT
BEGIN:VEVENT
DTSTART;VALUE=DATE:20250518
DTEND;VALUE=DATE:20250519
DTSTAMP:20260420T152127
CREATED:20241211T075003Z
LAST-MODIFIED:20250429T071234Z
UID:10000773-1747526400-1747612799@www.shjjv.de
SUMMARY:Landeskaderlehrgang
DESCRIPTION:Sei der Erste\, der diesen Beitrag teilt!
URL:https://www.shjjv.de/termin/landeskaderlehrgang-5/
LOCATION:Kodokan Norderstedt\, Am Exerzierplatz 28\, Norderstedt\, 22831\, Deutschland
CATEGORIES:Kader
ORGANIZER;CN="SHJJV Wettkampf":MAILTO:leistungssportreferent@shjjv.de
END:VEVENT
BEGIN:VEVENT
DTSTART;VALUE=DATE:20250523
DTEND;VALUE=DATE:20250526
DTSTAMP:20260420T152127
CREATED:20241211T075042Z
LAST-MODIFIED:20250119T163826Z
UID:10000774-1747958400-1748217599@www.shjjv.de
SUMMARY:Deutsche Schülermeisterschaften
DESCRIPTION:Sei der Erste\, der diesen Beitrag teilt!
URL:https://www.shjjv.de/termin/deutsche-schuelermeisterschaften-3/
LOCATION:Chemnitz\, Chemnitz\, Germany
CATEGORIES:Meisterschaften
ORGANIZER;CN="SHJJV Wettkampf":MAILTO:leistungssportreferent@shjjv.de
END:VEVENT
BEGIN:VEVENT
DTSTART;TZID=Europe/Berlin:20250523T170000
DTEND;TZID=Europe/Berlin:20250525T130000
DTSTAMP:20260420T152127
CREATED:20241027T170227Z
LAST-MODIFIED:20250202T102116Z
UID:10000738-1748019600-1748178000@www.shjjv.de
SUMMARY:Jugendfreizeit "Budo-Kids in Action"
DESCRIPTION:Jugendaktivwochenende „Budo-Kids in Action“ 2025\nThemen: Jugendaktivwochenende 2025 – „Budo-Kids in Action“ – Aktionsplan der SHJJV-Jugend \nZeit: Freitag\, 23. Mai 2025 Anreise: 17:00 – 17:30 Uhr\, Sonntag\, 25. Mai 2025 Abreise: 13.00 Uhr\nVeranstalter: Schleswig-Holsteinischer Ju-Jutsu Verband e.V.\nOrt: Jugendherberge Scharbeutz\, Strandallee 98\, 23683 Scharbeutz\, Tel. 04503-72090\nLeitung: Jugendreferent SHJJV e.V. \nAnmeldung: Vereinsweise auf beigefügtem Meldebogen (digital als Excel-Datei) bis zum 16. März 2025 unter: jugendreferent@shjjv.de \nZielgruppe: Alle Kinder und Jugendlichen im Alter von 7 – 17 Jahren\nTeilnahmevoraussetzungen: Vollständig ausgefüllte und unterzeichnete Einverständniserklärung der Eltern \nHinweis: \n\nJede Anmeldung ist verbindlich und verpflichtet zur Zahlung der Teilnahmegebühr. Tritt ein/e Teilnehmer/in die Maßnahme nicht an\, so besteht kein Anspruch auf Erlass / Rückerstattung der Teilnahmegebühr. Jeder Verein erhält für die von ihm gemeldeten Teilnehmer/innen eine Rechnung über den Gesamtbetrag. Bitte vorab keine Einzelzahlungen leisten!\nDie Teilnehmerzahl ist beschränkt; die Vergabe der Plätze erfolgt nach der Reihenfolge der Anmeldungen.\nWährend des Jugendaktivwochenendes gilt die Hausordnung der Jugendherberge.\nDie Aufsichtspflicht bezüglich der angemeldeten Teilnehmer(innen) ist durch die mitreisenden Betreuer(innen) / Trainer(innen)\n\nAusschreibung\nJugendaktivwochenende 2025 Scharbeutz\nJugendaktivwochendende – Meldebogen\nJugendaktivwochenende – Einverständniserklärung \nSei der Erste\, der diesen Beitrag teilt!
URL:https://www.shjjv.de/termin/jugendfreizeit-budo-kids-in-action/
LOCATION:Jugendherberge Scharbeutz\, Strandallee 98\, Scharbeutz\, 23683
CATEGORIES:Jugendveranstaltung
ORGANIZER;CN="SHJJV":MAILTO:breitensportreferent@shjjv.de
END:VEVENT
BEGIN:VEVENT
DTSTART;VALUE=DATE:20250524
DTEND;VALUE=DATE:20250526
DTSTAMP:20260420T152127
CREATED:20241027T170532Z
LAST-MODIFIED:20241211T080010Z
UID:10000739-1748044800-1748217599@www.shjjv.de
SUMMARY:Deutsche Schülermeisterschaften
DESCRIPTION:Sei der Erste\, der diesen Beitrag teilt!
URL:https://www.shjjv.de/termin/deutsche-schuelermeisterschaften-2/
LOCATION:Chemnitz\, Chemnitz\, Germany
CATEGORIES:Meisterschaften
ORGANIZER;CN="DJJV":MAILTO:info@djjv.de
END:VEVENT
BEGIN:VEVENT
DTSTART;VALUE=DATE:20250529
DTEND;VALUE=DATE:20250602
DTSTAMP:20260420T152127
CREATED:20241211T075137Z
LAST-MODIFIED:20250119T163825Z
UID:10000775-1748476800-1748822399@www.shjjv.de
SUMMARY:Europameisterschaft mit Master
DESCRIPTION:Sei der Erste\, der diesen Beitrag teilt!
URL:https://www.shjjv.de/termin/europameisterschaft-mit-master/
LOCATION:Zypern\, Cyprus
CATEGORIES:Meisterschaften
ORGANIZER;CN="SHJJV Wettkampf":MAILTO:leistungssportreferent@shjjv.de
END:VEVENT
BEGIN:VEVENT
DTSTART;VALUE=DATE:20250530
DTEND;VALUE=DATE:20250531
DTSTAMP:20260420T152127
CREATED:20241027T164205Z
LAST-MODIFIED:20250119T163825Z
UID:10000720-1748563200-1748649599@www.shjjv.de
SUMMARY:Pfingstferien
DESCRIPTION:Sei der Erste\, der diesen Beitrag teilt!
URL:https://www.shjjv.de/termin/pfingstferien/
CATEGORIES:Ferien
ORGANIZER;CN="SHJJV":MAILTO:breitensportreferent@shjjv.de
END:VEVENT
BEGIN:VEVENT
DTSTART;VALUE=DATE:20250531
DTEND;VALUE=DATE:20250601
DTSTAMP:20260420T152127
CREATED:20241027T170947Z
LAST-MODIFIED:20250125T165456Z
UID:10000740-1748649600-1748735999@www.shjjv.de
SUMMARY:Landeszentraltraining Prüfungsvorbereitung
DESCRIPTION:Sei der Erste\, der diesen Beitrag teilt!
URL:https://www.shjjv.de/termin/landeszentraltraining-pruefungsvorbereitung/
LOCATION:wird noch bekannt gegeben\, Germany
CATEGORIES:Landes-/Bundeslehrgang
ORGANIZER;CN="SHJJV":MAILTO:breitensportreferent@shjjv.de
END:VEVENT
BEGIN:VEVENT
DTSTART;VALUE=DATE:20250601
DTEND;VALUE=DATE:20250602
DTSTAMP:20260420T152127
CREATED:20241211T075206Z
LAST-MODIFIED:20250119T163825Z
UID:10000776-1748736000-1748822399@www.shjjv.de
SUMMARY:Landeskaderlehrgang
DESCRIPTION:Sei der Erste\, der diesen Beitrag teilt!
URL:https://www.shjjv.de/termin/landeskaderlehrgang-6/
LOCATION:Kodokan Norderstedt\, Am Exerzierplatz 28\, Norderstedt\, 22831\, Deutschland
CATEGORIES:Kader
ORGANIZER;CN="SHJJV Wettkampf":MAILTO:leistungssportreferent@shjjv.de
END:VEVENT
BEGIN:VEVENT
DTSTART;TZID=Europe/Berlin:20250614T091500
DTEND;TZID=Europe/Berlin:20250614T200000
DTSTAMP:20260420T152127
CREATED:20241027T171025Z
LAST-MODIFIED:20250307T180439Z
UID:10000741-1749892500-1749931200@www.shjjv.de
SUMMARY:Landesprüfung I
DESCRIPTION:Kyu- und Dan-Landesprüfung Ju-Jutsu und Jiu-Jitsu\nVeranstalter: Schleswig-Holsteinischer Ju-Jutsu Verband e.V.\nAusrichter: Kodokan e.V.\nOrt: Tarpenbekhalle\, Am Exerzierplatz 28\, 22844 Norderstedt \nZeit: Samstag\, 14. Juni 2025\nEinlass ab 9.15 Uhr – Prüfungsbeginn: 10.00 Uhr \nPrüfungen:\nJu-Jutsu: auf 2. Kyu und höher\nJiu-Jitsu: auf 2. Kyu und höher \nLeitung: Prüfungsreferent des SHJJV\, Referent Jiu-Jitsu des SHJJV\nPrüfer: werden am Tag der Prüfung bekannt gegeben \nAusrüstung:\nJu-Jutsu: Übungswaffen\, Pratzen/Schlag-polster\, Tiefschutz (Männer)\, weitere Schutzausrüstung gem. Prüfungspro-gramm\, Zahnschutz wird empfohlen\nJiu-Jitsu: Übungswaffen \nAnmeldung: verbindlich bis zum 3. Mai 2025\nJu-Jutsu: per Email mit beigefügter Excelliste an pruefungsreferent@shjjv.de\nJiu-Jitsu: mit beigefügtem Graduie-rungsantrag an Peter Schneider\, Am Ochsenmarkt 7\, 24937 Flensburg\, jiu-referent@shjjv.de \nAusschreibung\nLandesprüfung am 14.06.2025 in Norderstedt\nLaPr250614MeldelisteJu-Jutsu\nSHJJV – Prüfung – Graduierungsantrag Dan Jiu-Jitsu V1-22\nSHJJV – Prüfung – Graduierungsantrag Kyu Jiu-Jitsu V1-22 \nSei der Erste\, der diesen Beitrag teilt!
URL:https://www.shjjv.de/termin/landespruefung-i/
LOCATION:Kodokan Norderstedt\, Am Exerzierplatz 28\, Norderstedt\, 22831\, Deutschland
CATEGORIES:Prüfung
ORGANIZER;CN="SHJJV":MAILTO:breitensportreferent@shjjv.de
END:VEVENT
BEGIN:VEVENT
DTSTART;VALUE=DATE:20250620
DTEND;VALUE=DATE:20250623
DTSTAMP:20260420T152127
CREATED:20241211T075316Z
LAST-MODIFIED:20250119T163825Z
UID:10000777-1750377600-1750636799@www.shjjv.de
SUMMARY:Bundeskaderlehrgang
DESCRIPTION:Sei der Erste\, der diesen Beitrag teilt!
URL:https://www.shjjv.de/termin/bundeskaderlehrgang-3/
LOCATION:Bad Blankenburg\, Wirbacher Str. 10\, Bad Blankenburg\, 07422
CATEGORIES:Kader
ORGANIZER;CN="SHJJV Wettkampf":MAILTO:leistungssportreferent@shjjv.de
END:VEVENT
BEGIN:VEVENT
DTSTART;VALUE=DATE:20250620
DTEND;VALUE=DATE:20250623
DTSTAMP:20260420T152127
CREATED:20241211T075349Z
LAST-MODIFIED:20250119T163824Z
UID:10000778-1750377600-1750636799@www.shjjv.de
SUMMARY:Deutsche Meisterschaften (DEM)
DESCRIPTION:Sei der Erste\, der diesen Beitrag teilt!
URL:https://www.shjjv.de/termin/deutsche-meisterschaften-dem-2/
LOCATION:Norderstedt\, Norderstedt\, Germany
CATEGORIES:Meisterschaften
ORGANIZER;CN="SHJJV Wettkampf":MAILTO:leistungssportreferent@shjjv.de
END:VEVENT
BEGIN:VEVENT
DTSTART;TZID=Europe/Berlin:20250624T200000
DTEND;TZID=Europe/Berlin:20250624T220000
DTSTAMP:20260420T152127
CREATED:20241231T114032Z
LAST-MODIFIED:20250427T163158Z
UID:10000793-1750795200-1750802400@www.shjjv.de
SUMMARY:Landesstützpunkttraining Ne-Waza & BJJ
DESCRIPTION:Landesstützpunkttraining Ne-Waza & BJJ 2025\n(Stützpunkttraining für Bodenkampf & Brazilian Jiu-Jitsu)\nDas Stützpunkttraining soll allen am Bodenkampf / Ne-Waza und / oder BJJ interessierten Sportler/innen die Möglichkeit bieten\, regelmäßig\, gemeinsam und unter Anleitung folgende Inhalte zu erweitern: \n\nErlernen des Stils “Brazilian Jiu-Jitsu” (nach Vorgaben des Prüfungsprogrammes BJJ 2023 des DJJV)\nLeistungsüberprüfung / Graduierungen im BJJ möglich (nach Absprache!)\nErwerb von stilübergreifenden Grundfertigkeiten im Bereich der Bodentechniken\nErwerb der Prüferlizenz für die “Pet-Patches” des DJV (mind. 3. Kyu Ju-Jutsu/Jiu-Jitsu oder Blue Belt BJJ)\nErlernen und Vertiefen der Boden-Inhalte des (neuen/aktuellen) Ju-Jutsu Prüfungsprogramms\n\nReferent: Philipp Wolf\, 2. Dan Black Belt Gracie / Brazilian Jiu-Jitsu\, 6. Dan Ju-Jutsu \nZeit/Datum: Dienstags von 20.00 Uhr bis 22.00 Uhr an folgenden Tagen:\n14.01.2025 / 11.02.2025 / 11.03.2025 / 08.04.2025 / 13.05.2024 / 24.06.2025 / 16.09.2025 / 11.11.2025 / 02.12.2025 \nVeranstalter: Schleswig-Holsteinischer Ju-Jutsu Verband e.V.\nAusrichter: TSV Neustadt in Holstein (Abteilung Brazilian Jiu-Jitsu)\nOrt: Sporthalle des Küstengymnasiums Neustadt in Holstein\, 23730 Neustadt in Holstein \nZielgruppe: Alle interessierten Mitglieder des SHJJV (ab 16 Jahren) sowie Interessierte Sportler/innen aus artverwandten Sportarten (Ju-Jutsu\, Jiu-Jitsu\, Judo\, Luta Livre etc.)\nKosten: für Sportler(innen) mit DJJV-Beitragsmarke 2024/2025: Keine \nAnmeldung: Voranmeldung erforderlich bei Philipp Wolf unter info@bjj-neustadt.de \nAusschreibung\nAusschreibung Stützpunttraining BJJ NeWaza und Boden 2025 \nSei der Erste\, der diesen Beitrag teilt!
URL:https://www.shjjv.de/termin/8677/2025-06-24/
LOCATION:TSV Neustadt\, Waschgrabenallee 18\, Neustadt in Holstein\, 23730\, Deutschland
CATEGORIES:Landesstützpunkttraining
ORGANIZER;CN="SHJJV":MAILTO:breitensportreferent@shjjv.de
END:VEVENT
BEGIN:VEVENT
DTSTART;TZID=Europe/Berlin:20250628T140000
DTEND;TZID=Europe/Berlin:20250628T180000
DTSTAMP:20260420T152127
CREATED:20241027T171237Z
LAST-MODIFIED:20250510T101642Z
UID:10000743-1751119200-1751133600@www.shjjv.de
SUMMARY:Landestechniklehrgang
DESCRIPTION:Landestechniklehrgang\nThema: Realistische Selbstverteidigung\nInhalt: Training und Selbstverteidigung im Freien und in beengten Räumen\nReferent: Sigi Sobolewski\, 7. Dan Ju-Jutsu\, Trainer-A-Breitensport / Mark Harrer\, 1. Dan Jiu-Jitsu \nZeit: Samstag\, 28. Juni 2025\, 14:00 Uhr bis 18:00 Uhr\nVeranstalter: Schleswig-Holsteinischer Ju-Jutsu Verband e.V.\nAusrichter: TSV Glinde\nOrt: Geschäftsstelle TSV Glinde\, Am Sportplatz 98\, 21509 Glinde\nLeitung: Mark Harrer \nAnmeldung: Per E-Mail bis zum 21.06.2025 an Mark Harrer unter: jiujitsu@tsv-glinde.de \nAusschreibung\nLaTeLe 28.06.2025 in Glinde \nSei der Erste\, der diesen Beitrag teilt!
URL:https://www.shjjv.de/termin/landestechniklehrgang-15/
LOCATION:TSV Glinde\, Am Sportplatz 98a\, Glinde\, 21509\, Deutschland
CATEGORIES:Landes-/Bundeslehrgang
ORGANIZER;CN="SHJJV":MAILTO:breitensportreferent@shjjv.de
END:VEVENT
BEGIN:VEVENT
DTSTART;TZID=Europe/Berlin:20250706T100000
DTEND;TZID=Europe/Berlin:20250706T140000
DTSTAMP:20260420T152127
CREATED:20250418T083048Z
LAST-MODIFIED:20250418T083048Z
UID:10000799-1751796000-1751810400@www.shjjv.de
SUMMARY:Landestechniklehrgang
DESCRIPTION:Landestechniklehrgang\nThema: Selbstverteidigung in Alltagssituation und mit Alltagsgegenständen – Teil 2\nReferent: Christian Groffmann\, 5. Dan Jiu-Jitsu / Gerrit Lukowski\, 2. Dan Jiu-Jitsu \nZeit: Sonntag\, 06. Juli 2025\, 10:00 Uhr bis 14:00 Uhr\nVeranstalter: Schleswig-Holsteinischer Ju-Jutsu Verband e.V.\nAusrichter: SVT Neumünster v. 1911 e.V.\nOrt: Turnhalle der Pestalozzi-Schule\, Am Kamp 1-3\, 24536 Neumünster\nLeitung:Christian Groffmann \nAnmeldung: Per E-Mail bis zum 29.06.2025 an Christian Groffmann unter: groff@freenet.de \nAusschreibung\nLaTeLe am 06.07.2025 in Neumünster \nSei der Erste\, der diesen Beitrag teilt!
URL:https://www.shjjv.de/termin/landestechniklehrgang-9/
LOCATION:SV Tungendorf Neumünster\, Süderdorfkamp 22\, Neumünster\, 24536
CATEGORIES:Landes-/Bundeslehrgang
ORGANIZER;CN="SHJJV":MAILTO:breitensportreferent@shjjv.de
END:VEVENT
BEGIN:VEVENT
DTSTART;VALUE=DATE:20250728
DTEND;VALUE=DATE:20250907
DTSTAMP:20260420T152127
CREATED:20241027T164252Z
LAST-MODIFIED:20250119T163823Z
UID:10000721-1753660800-1757203199@www.shjjv.de
SUMMARY:Sommerferien
DESCRIPTION:Sei der Erste\, der diesen Beitrag teilt!
URL:https://www.shjjv.de/termin/sommerferien/
CATEGORIES:Ferien
ORGANIZER;CN="SHJJV":MAILTO:breitensportreferent@shjjv.de
END:VEVENT
BEGIN:VEVENT
DTSTART;VALUE=DATE:20250801
DTEND;VALUE=DATE:20250804
DTSTAMP:20260420T152127
CREATED:20241027T171332Z
LAST-MODIFIED:20241027T171431Z
UID:10000744-1754006400-1754265599@www.shjjv.de
SUMMARY:Polizeiseminar
DESCRIPTION:Sei der Erste\, der diesen Beitrag teilt!
URL:https://www.shjjv.de/termin/polizeiseminar/
LOCATION:Uelzen\, Uelzen\, Deutschland
CATEGORIES:Landes-/Bundeslehrgang
ORGANIZER;CN="DJJV":MAILTO:info@djjv.de
END:VEVENT
BEGIN:VEVENT
DTSTART;VALUE=DATE:20250810
DTEND;VALUE=DATE:20250817
DTSTAMP:20260420T152127
CREATED:20241027T171417Z
LAST-MODIFIED:20241027T171417Z
UID:10000745-1754784000-1755388799@www.shjjv.de
SUMMARY:Bundesseminar
DESCRIPTION:Sei der Erste\, der diesen Beitrag teilt!
URL:https://www.shjjv.de/termin/bundesseminar/
LOCATION:Bad Blankenburg\, Wirbacher Str. 10\, Bad Blankenburg\, 07422
CATEGORIES:Landes-/Bundeslehrgang
ORGANIZER;CN="DJJV":MAILTO:info@djjv.de
END:VEVENT
BEGIN:VEVENT
DTSTART;VALUE=DATE:20250822
DTEND;VALUE=DATE:20250825
DTSTAMP:20260420T152127
CREATED:20241211T075514Z
LAST-MODIFIED:20250119T163823Z
UID:10000779-1755820800-1756079999@www.shjjv.de
SUMMARY:Europameisterschaft NoGi
DESCRIPTION:Sei der Erste\, der diesen Beitrag teilt!
URL:https://www.shjjv.de/termin/europameisterschaft-nogi/
LOCATION:Kroatien\, Croatia (Local Name: Hrvatska)
CATEGORIES:Meisterschaften
ORGANIZER;CN="SHJJV Wettkampf":MAILTO:leistungssportreferent@shjjv.de
END:VEVENT
BEGIN:VEVENT
DTSTART;VALUE=DATE:20250903
DTEND;VALUE=DATE:20250908
DTSTAMP:20260420T152127
CREATED:20241211T075557Z
LAST-MODIFIED:20250119T163823Z
UID:10000780-1756857600-1757289599@www.shjjv.de
SUMMARY:Bundeskaderlehrgang
DESCRIPTION:Sei der Erste\, der diesen Beitrag teilt!
URL:https://www.shjjv.de/termin/bundeskaderlehrgang-4/
LOCATION:Bad Blankenburg\, Wirbacher Str. 10\, Bad Blankenburg\, 07422
CATEGORIES:Kader
ORGANIZER;CN="SHJJV Wettkampf":MAILTO:leistungssportreferent@shjjv.de
END:VEVENT
BEGIN:VEVENT
DTSTART;TZID=Europe/Berlin:20250906T100000
DTEND;TZID=Europe/Berlin:20250906T140000
DTSTAMP:20260420T152127
CREATED:20250626T184142Z
LAST-MODIFIED:20250626T184142Z
UID:10000801-1757152800-1757167200@www.shjjv.de
SUMMARY:Landestechniklehrgang
DESCRIPTION:Landestechniklehrgang\nThema: Atemi- und Wurftechniken aus dem Prüfungsprogramm\nInhalt: Ellenbogentechniken / Um- und Weiterleitung von Angriffen\, Stoppen oder Werfen nach Griffansatz/Schubsen\nReferent: Peter Schillinsky 6. DAN Ju-Jutsu / 2. DAN Jiu-Jitsu ; Andreas Schultz 2. DAN Ju-Jutsu \nZeit: Samstag\, 06. September 2025\, 10:00 Uhr bis 14:00 Uhr\nVeranstalter: Schleswig-Holsteinischer Ju-Jutsu Verband e.V.\nAusrichter: KSG Arashi e.V.\nOrt: Oelixdorfer Strasse 2\, 25524 Itzehoe\nLeitung: Andreas Schultz \nAnmeldung: Per E-Mail bis zum 30.08.2025 an Andreas Schultz unter: ab-schultz@t-online.de \nAusschreibung\nLaTeLe 06.09. 2025 in Itzehoe \nSei der Erste\, der diesen Beitrag teilt!
URL:https://www.shjjv.de/termin/landestechniklehrgang-11/
LOCATION:KSG Arashi\, Oelixdorfer Str. 2\, Itzehoe\, 25524
CATEGORIES:Landes-/Bundeslehrgang
ORGANIZER;CN="SHJJV":MAILTO:breitensportreferent@shjjv.de
END:VEVENT
BEGIN:VEVENT
DTSTART;VALUE=DATE:20250907
DTEND;VALUE=DATE:20250908
DTSTAMP:20260420T152127
CREATED:20241211T075631Z
LAST-MODIFIED:20250119T163822Z
UID:10000781-1757203200-1757289599@www.shjjv.de
SUMMARY:Landeskaderlehrgang
DESCRIPTION:Sei der Erste\, der diesen Beitrag teilt!
URL:https://www.shjjv.de/termin/landeskaderlehrgang-7/
LOCATION:Kodokan Norderstedt\, Am Exerzierplatz 28\, Norderstedt\, 22831\, Deutschland
CATEGORIES:Kader
ORGANIZER;CN="SHJJV Wettkampf":MAILTO:leistungssportreferent@shjjv.de
END:VEVENT
BEGIN:VEVENT
DTSTART;TZID=Europe/Berlin:20250907T100000
DTEND;TZID=Europe/Berlin:20250907T170000
DTSTAMP:20260420T152127
CREATED:20250724T113150Z
LAST-MODIFIED:20250724T113150Z
UID:10000802-1757239200-1757264400@www.shjjv.de
SUMMARY:Tag des Sports
DESCRIPTION:Sei der Erste\, der diesen Beitrag teilt!
URL:https://www.shjjv.de/termin/tag-des-sports/
LOCATION:LSV Kiel\, Winterbeker Weg 49\, Kiel\, 24114
CATEGORIES:Jugendveranstaltung,Sonstiges
END:VEVENT
BEGIN:VEVENT
DTSTART;TZID=Europe/Berlin:20250916T200000
DTEND;TZID=Europe/Berlin:20250916T220000
DTSTAMP:20260420T152127
CREATED:20241231T114032Z
LAST-MODIFIED:20250427T163158Z
UID:10000794-1758052800-1758060000@www.shjjv.de
SUMMARY:Landesstützpunkttraining Ne-Waza & BJJ
DESCRIPTION:Landesstützpunkttraining Ne-Waza & BJJ 2025\n(Stützpunkttraining für Bodenkampf & Brazilian Jiu-Jitsu)\nDas Stützpunkttraining soll allen am Bodenkampf / Ne-Waza und / oder BJJ interessierten Sportler/innen die Möglichkeit bieten\, regelmäßig\, gemeinsam und unter Anleitung folgende Inhalte zu erweitern: \n\nErlernen des Stils “Brazilian Jiu-Jitsu” (nach Vorgaben des Prüfungsprogrammes BJJ 2023 des DJJV)\nLeistungsüberprüfung / Graduierungen im BJJ möglich (nach Absprache!)\nErwerb von stilübergreifenden Grundfertigkeiten im Bereich der Bodentechniken\nErwerb der Prüferlizenz für die “Pet-Patches” des DJV (mind. 3. Kyu Ju-Jutsu/Jiu-Jitsu oder Blue Belt BJJ)\nErlernen und Vertiefen der Boden-Inhalte des (neuen/aktuellen) Ju-Jutsu Prüfungsprogramms\n\nReferent: Philipp Wolf\, 2. Dan Black Belt Gracie / Brazilian Jiu-Jitsu\, 6. Dan Ju-Jutsu \nZeit/Datum: Dienstags von 20.00 Uhr bis 22.00 Uhr an folgenden Tagen:\n14.01.2025 / 11.02.2025 / 11.03.2025 / 08.04.2025 / 13.05.2024 / 24.06.2025 / 16.09.2025 / 11.11.2025 / 02.12.2025 \nVeranstalter: Schleswig-Holsteinischer Ju-Jutsu Verband e.V.\nAusrichter: TSV Neustadt in Holstein (Abteilung Brazilian Jiu-Jitsu)\nOrt: Sporthalle des Küstengymnasiums Neustadt in Holstein\, 23730 Neustadt in Holstein \nZielgruppe: Alle interessierten Mitglieder des SHJJV (ab 16 Jahren) sowie Interessierte Sportler/innen aus artverwandten Sportarten (Ju-Jutsu\, Jiu-Jitsu\, Judo\, Luta Livre etc.)\nKosten: für Sportler(innen) mit DJJV-Beitragsmarke 2024/2025: Keine \nAnmeldung: Voranmeldung erforderlich bei Philipp Wolf unter info@bjj-neustadt.de \nAusschreibung\nAusschreibung Stützpunttraining BJJ NeWaza und Boden 2025 \nSei der Erste\, der diesen Beitrag teilt!
URL:https://www.shjjv.de/termin/8677/2025-09-16/
LOCATION:TSV Neustadt\, Waschgrabenallee 18\, Neustadt in Holstein\, 23730\, Deutschland
CATEGORIES:Landesstützpunkttraining
ORGANIZER;CN="SHJJV":MAILTO:breitensportreferent@shjjv.de
END:VEVENT
END:VCALENDAR