BEGIN:VCALENDAR
VERSION:2.0
PRODID:-//Schleswig-Holsteinischer Ju-Jutsu-Verband e.V. - ECPv6.15.20//NONSGML v1.0//EN
CALSCALE:GREGORIAN
METHOD:PUBLISH
X-WR-CALNAME:Schleswig-Holsteinischer Ju-Jutsu-Verband e.V.
X-ORIGINAL-URL:https://www.shjjv.de
X-WR-CALDESC:Veranstaltungen für Schleswig-Holsteinischer Ju-Jutsu-Verband e.V.
REFRESH-INTERVAL;VALUE=DURATION:PT1H
X-Robots-Tag:noindex
X-PUBLISHED-TTL:PT1H
BEGIN:VTIMEZONE
TZID:Europe/Berlin
BEGIN:DAYLIGHT
TZOFFSETFROM:+0100
TZOFFSETTO:+0200
TZNAME:CEST
DTSTART:20240331T010000
END:DAYLIGHT
BEGIN:STANDARD
TZOFFSETFROM:+0200
TZOFFSETTO:+0100
TZNAME:CET
DTSTART:20241027T010000
END:STANDARD
BEGIN:DAYLIGHT
TZOFFSETFROM:+0100
TZOFFSETTO:+0200
TZNAME:CEST
DTSTART:20250330T010000
END:DAYLIGHT
BEGIN:STANDARD
TZOFFSETFROM:+0200
TZOFFSETTO:+0100
TZNAME:CET
DTSTART:20251026T010000
END:STANDARD
BEGIN:DAYLIGHT
TZOFFSETFROM:+0100
TZOFFSETTO:+0200
TZNAME:CEST
DTSTART:20260329T010000
END:DAYLIGHT
BEGIN:STANDARD
TZOFFSETFROM:+0200
TZOFFSETTO:+0100
TZNAME:CET
DTSTART:20261025T010000
END:STANDARD
END:VTIMEZONE
BEGIN:VEVENT
DTSTART;VALUE=DATE:20250529
DTEND;VALUE=DATE:20250602
DTSTAMP:20260420T115621
CREATED:20241211T075137Z
LAST-MODIFIED:20250119T163825Z
UID:10000775-1748476800-1748822399@www.shjjv.de
SUMMARY:Europameisterschaft mit Master
DESCRIPTION:Sei der Erste\, der diesen Beitrag teilt!
URL:https://www.shjjv.de/termin/europameisterschaft-mit-master/
LOCATION:Zypern\, Cyprus
CATEGORIES:Meisterschaften
ORGANIZER;CN="SHJJV Wettkampf":MAILTO:leistungssportreferent@shjjv.de
END:VEVENT
BEGIN:VEVENT
DTSTART;VALUE=DATE:20250601
DTEND;VALUE=DATE:20250602
DTSTAMP:20260420T115621
CREATED:20241211T075206Z
LAST-MODIFIED:20250119T163825Z
UID:10000776-1748736000-1748822399@www.shjjv.de
SUMMARY:Landeskaderlehrgang
DESCRIPTION:Sei der Erste\, der diesen Beitrag teilt!
URL:https://www.shjjv.de/termin/landeskaderlehrgang-6/
LOCATION:Kodokan Norderstedt\, Am Exerzierplatz 28\, Norderstedt\, 22831\, Deutschland
CATEGORIES:Kader
ORGANIZER;CN="SHJJV Wettkampf":MAILTO:leistungssportreferent@shjjv.de
END:VEVENT
BEGIN:VEVENT
DTSTART;TZID=Europe/Berlin:20250614T091500
DTEND;TZID=Europe/Berlin:20250614T200000
DTSTAMP:20260420T115621
CREATED:20241027T171025Z
LAST-MODIFIED:20250307T180439Z
UID:10000741-1749892500-1749931200@www.shjjv.de
SUMMARY:Landesprüfung I
DESCRIPTION:Kyu- und Dan-Landesprüfung Ju-Jutsu und Jiu-Jitsu\nVeranstalter: Schleswig-Holsteinischer Ju-Jutsu Verband e.V.\nAusrichter: Kodokan e.V.\nOrt: Tarpenbekhalle\, Am Exerzierplatz 28\, 22844 Norderstedt \nZeit: Samstag\, 14. Juni 2025\nEinlass ab 9.15 Uhr – Prüfungsbeginn: 10.00 Uhr \nPrüfungen:\nJu-Jutsu: auf 2. Kyu und höher\nJiu-Jitsu: auf 2. Kyu und höher \nLeitung: Prüfungsreferent des SHJJV\, Referent Jiu-Jitsu des SHJJV\nPrüfer: werden am Tag der Prüfung bekannt gegeben \nAusrüstung:\nJu-Jutsu: Übungswaffen\, Pratzen/Schlag-polster\, Tiefschutz (Männer)\, weitere Schutzausrüstung gem. Prüfungspro-gramm\, Zahnschutz wird empfohlen\nJiu-Jitsu: Übungswaffen \nAnmeldung: verbindlich bis zum 3. Mai 2025\nJu-Jutsu: per Email mit beigefügter Excelliste an pruefungsreferent@shjjv.de\nJiu-Jitsu: mit beigefügtem Graduie-rungsantrag an Peter Schneider\, Am Ochsenmarkt 7\, 24937 Flensburg\, jiu-referent@shjjv.de \nAusschreibung\nLandesprüfung am 14.06.2025 in Norderstedt\nLaPr250614MeldelisteJu-Jutsu\nSHJJV – Prüfung – Graduierungsantrag Dan Jiu-Jitsu V1-22\nSHJJV – Prüfung – Graduierungsantrag Kyu Jiu-Jitsu V1-22 \nSei der Erste\, der diesen Beitrag teilt!
URL:https://www.shjjv.de/termin/landespruefung-i/
LOCATION:Kodokan Norderstedt\, Am Exerzierplatz 28\, Norderstedt\, 22831\, Deutschland
CATEGORIES:Prüfung
ORGANIZER;CN="SHJJV":MAILTO:breitensportreferent@shjjv.de
END:VEVENT
BEGIN:VEVENT
DTSTART;VALUE=DATE:20250620
DTEND;VALUE=DATE:20250623
DTSTAMP:20260420T115621
CREATED:20241211T075316Z
LAST-MODIFIED:20250119T163825Z
UID:10000777-1750377600-1750636799@www.shjjv.de
SUMMARY:Bundeskaderlehrgang
DESCRIPTION:Sei der Erste\, der diesen Beitrag teilt!
URL:https://www.shjjv.de/termin/bundeskaderlehrgang-3/
LOCATION:Bad Blankenburg\, Wirbacher Str. 10\, Bad Blankenburg\, 07422
CATEGORIES:Kader
ORGANIZER;CN="SHJJV Wettkampf":MAILTO:leistungssportreferent@shjjv.de
END:VEVENT
BEGIN:VEVENT
DTSTART;VALUE=DATE:20250620
DTEND;VALUE=DATE:20250623
DTSTAMP:20260420T115621
CREATED:20241211T075349Z
LAST-MODIFIED:20250119T163824Z
UID:10000778-1750377600-1750636799@www.shjjv.de
SUMMARY:Deutsche Meisterschaften (DEM)
DESCRIPTION:Sei der Erste\, der diesen Beitrag teilt!
URL:https://www.shjjv.de/termin/deutsche-meisterschaften-dem-2/
LOCATION:Norderstedt\, Norderstedt\, Germany
CATEGORIES:Meisterschaften
ORGANIZER;CN="SHJJV Wettkampf":MAILTO:leistungssportreferent@shjjv.de
END:VEVENT
BEGIN:VEVENT
DTSTART;TZID=Europe/Berlin:20250624T200000
DTEND;TZID=Europe/Berlin:20250624T220000
DTSTAMP:20260420T115621
CREATED:20241231T114032Z
LAST-MODIFIED:20250427T163158Z
UID:10000793-1750795200-1750802400@www.shjjv.de
SUMMARY:Landesstützpunkttraining Ne-Waza & BJJ
DESCRIPTION:Landesstützpunkttraining Ne-Waza & BJJ 2025\n(Stützpunkttraining für Bodenkampf & Brazilian Jiu-Jitsu)\nDas Stützpunkttraining soll allen am Bodenkampf / Ne-Waza und / oder BJJ interessierten Sportler/innen die Möglichkeit bieten\, regelmäßig\, gemeinsam und unter Anleitung folgende Inhalte zu erweitern: \n\nErlernen des Stils “Brazilian Jiu-Jitsu” (nach Vorgaben des Prüfungsprogrammes BJJ 2023 des DJJV)\nLeistungsüberprüfung / Graduierungen im BJJ möglich (nach Absprache!)\nErwerb von stilübergreifenden Grundfertigkeiten im Bereich der Bodentechniken\nErwerb der Prüferlizenz für die “Pet-Patches” des DJV (mind. 3. Kyu Ju-Jutsu/Jiu-Jitsu oder Blue Belt BJJ)\nErlernen und Vertiefen der Boden-Inhalte des (neuen/aktuellen) Ju-Jutsu Prüfungsprogramms\n\nReferent: Philipp Wolf\, 2. Dan Black Belt Gracie / Brazilian Jiu-Jitsu\, 6. Dan Ju-Jutsu \nZeit/Datum: Dienstags von 20.00 Uhr bis 22.00 Uhr an folgenden Tagen:\n14.01.2025 / 11.02.2025 / 11.03.2025 / 08.04.2025 / 13.05.2024 / 24.06.2025 / 16.09.2025 / 11.11.2025 / 02.12.2025 \nVeranstalter: Schleswig-Holsteinischer Ju-Jutsu Verband e.V.\nAusrichter: TSV Neustadt in Holstein (Abteilung Brazilian Jiu-Jitsu)\nOrt: Sporthalle des Küstengymnasiums Neustadt in Holstein\, 23730 Neustadt in Holstein \nZielgruppe: Alle interessierten Mitglieder des SHJJV (ab 16 Jahren) sowie Interessierte Sportler/innen aus artverwandten Sportarten (Ju-Jutsu\, Jiu-Jitsu\, Judo\, Luta Livre etc.)\nKosten: für Sportler(innen) mit DJJV-Beitragsmarke 2024/2025: Keine \nAnmeldung: Voranmeldung erforderlich bei Philipp Wolf unter info@bjj-neustadt.de \nAusschreibung\nAusschreibung Stützpunttraining BJJ NeWaza und Boden 2025 \nSei der Erste\, der diesen Beitrag teilt!
URL:https://www.shjjv.de/termin/8677/2025-06-24/
LOCATION:TSV Neustadt\, Waschgrabenallee 18\, Neustadt in Holstein\, 23730\, Deutschland
CATEGORIES:Landesstützpunkttraining
ORGANIZER;CN="SHJJV":MAILTO:breitensportreferent@shjjv.de
END:VEVENT
BEGIN:VEVENT
DTSTART;TZID=Europe/Berlin:20250628T140000
DTEND;TZID=Europe/Berlin:20250628T180000
DTSTAMP:20260420T115621
CREATED:20241027T171237Z
LAST-MODIFIED:20250510T101642Z
UID:10000743-1751119200-1751133600@www.shjjv.de
SUMMARY:Landestechniklehrgang
DESCRIPTION:Landestechniklehrgang\nThema: Realistische Selbstverteidigung\nInhalt: Training und Selbstverteidigung im Freien und in beengten Räumen\nReferent: Sigi Sobolewski\, 7. Dan Ju-Jutsu\, Trainer-A-Breitensport / Mark Harrer\, 1. Dan Jiu-Jitsu \nZeit: Samstag\, 28. Juni 2025\, 14:00 Uhr bis 18:00 Uhr\nVeranstalter: Schleswig-Holsteinischer Ju-Jutsu Verband e.V.\nAusrichter: TSV Glinde\nOrt: Geschäftsstelle TSV Glinde\, Am Sportplatz 98\, 21509 Glinde\nLeitung: Mark Harrer \nAnmeldung: Per E-Mail bis zum 21.06.2025 an Mark Harrer unter: jiujitsu@tsv-glinde.de \nAusschreibung\nLaTeLe 28.06.2025 in Glinde \nSei der Erste\, der diesen Beitrag teilt!
URL:https://www.shjjv.de/termin/landestechniklehrgang-15/
LOCATION:TSV Glinde\, Am Sportplatz 98a\, Glinde\, 21509\, Deutschland
CATEGORIES:Landes-/Bundeslehrgang
ORGANIZER;CN="SHJJV":MAILTO:breitensportreferent@shjjv.de
END:VEVENT
END:VCALENDAR