BEGIN:VCALENDAR
VERSION:2.0
PRODID:-//Schleswig-Holsteinischer Ju-Jutsu-Verband e.V. - ECPv6.15.20//NONSGML v1.0//EN
CALSCALE:GREGORIAN
METHOD:PUBLISH
X-WR-CALNAME:Schleswig-Holsteinischer Ju-Jutsu-Verband e.V.
X-ORIGINAL-URL:https://www.shjjv.de
X-WR-CALDESC:Veranstaltungen für Schleswig-Holsteinischer Ju-Jutsu-Verband e.V.
REFRESH-INTERVAL;VALUE=DURATION:PT1H
X-Robots-Tag:noindex
X-PUBLISHED-TTL:PT1H
BEGIN:VTIMEZONE
TZID:Europe/Berlin
BEGIN:DAYLIGHT
TZOFFSETFROM:+0100
TZOFFSETTO:+0200
TZNAME:CEST
DTSTART:20240331T010000
END:DAYLIGHT
BEGIN:STANDARD
TZOFFSETFROM:+0200
TZOFFSETTO:+0100
TZNAME:CET
DTSTART:20241027T010000
END:STANDARD
BEGIN:DAYLIGHT
TZOFFSETFROM:+0100
TZOFFSETTO:+0200
TZNAME:CEST
DTSTART:20250330T010000
END:DAYLIGHT
BEGIN:STANDARD
TZOFFSETFROM:+0200
TZOFFSETTO:+0100
TZNAME:CET
DTSTART:20251026T010000
END:STANDARD
BEGIN:DAYLIGHT
TZOFFSETFROM:+0100
TZOFFSETTO:+0200
TZNAME:CEST
DTSTART:20260329T010000
END:DAYLIGHT
BEGIN:STANDARD
TZOFFSETFROM:+0200
TZOFFSETTO:+0100
TZNAME:CET
DTSTART:20261025T010000
END:STANDARD
END:VTIMEZONE
BEGIN:VEVENT
DTSTART;VALUE=DATE:20251001
DTEND;VALUE=DATE:20251006
DTSTAMP:20260420T115635
CREATED:20250913T073726Z
LAST-MODIFIED:20250913T073726Z
UID:10000805-1759276800-1759708799@www.shjjv.de
SUMMARY:Europameisterschaft
DESCRIPTION:Sei der Erste\, der diesen Beitrag teilt!
URL:https://www.shjjv.de/termin/europameisterschaft/
LOCATION:Belgien\, Belgium
ORGANIZER;CN="SHJJV Wettkampf":MAILTO:leistungssportreferent@shjjv.de
END:VEVENT
BEGIN:VEVENT
DTSTART;VALUE=DATE:20251003
DTEND;VALUE=DATE:20251004
DTSTAMP:20260420T115635
CREATED:20221216T063605Z
LAST-MODIFIED:20231001T091818Z
UID:10000597-1759449600-1759535999@www.shjjv.de
SUMMARY:Tag der dt. Einheit
DESCRIPTION:Sei der Erste\, der diesen Beitrag teilt!
URL:https://www.shjjv.de/termin/tag-der-dt-einheit/2025-10-03/
CATEGORIES:Feiertag
END:VEVENT
BEGIN:VEVENT
DTSTART;TZID=Europe/Berlin:20251011T140000
DTEND;TZID=Europe/Berlin:20251011T180000
DTSTAMP:20260420T115635
CREATED:20241027T171700Z
LAST-MODIFIED:20250809T122241Z
UID:10000749-1760191200-1760205600@www.shjjv.de
SUMMARY:Landestechniklehrgang Prüfungsvorbereitung
DESCRIPTION:Landestechniklehrgang\nThema: Prüfungsvorbereitung zur Landesprüfung\nInhalt: Schwerpunkte aus dem Prüfungsprogramm Ju-Jutsu 2. Kyu bis 5. Dan\nReferent: Dominik Höer\, 2. Dan Ju-Jutsu / Jens Dykow\, 7. Dan Ju-Jutsu \nZeit: Samstag\, 11. Oktober 2025\, 14:00 Uhr bis 18:00 Uhr\nVeranstalter: Schleswig-Holsteinischer Ju-Jutsu Verband e.V.\nAusrichter: Lübecker Judo Club e.V.\nOrt: Dojo des LJC\, Falkenstraße 39\, 23564 Lübeck\nLeitung: Jens Dykow \nAnmeldung: Per E-Mail bis zum 4. Oktober 2025 an pruefungsreferent@shjjv.de \nAusschreibung\nLaTeLe 11.10.2025 in Lübeck \nSei der Erste\, der diesen Beitrag teilt!
URL:https://www.shjjv.de/termin/landestechniklehrgang-pruefungsvorbereitung-2/
LOCATION:LJC Lübeck\, Falkenstraße 39\, Lübeck\, 23564
CATEGORIES:Landes-/Bundeslehrgang
ORGANIZER;CN="SHJJV":MAILTO:breitensportreferent@shjjv.de
END:VEVENT
BEGIN:VEVENT
DTSTART;VALUE=DATE:20251020
DTEND;VALUE=DATE:20251031
DTSTAMP:20260420T115635
CREATED:20241027T164333Z
LAST-MODIFIED:20250119T163821Z
UID:10000722-1760918400-1761868799@www.shjjv.de
SUMMARY:Herbstferien
DESCRIPTION:Sei der Erste\, der diesen Beitrag teilt!
URL:https://www.shjjv.de/termin/herbstferien/
CATEGORIES:Ferien
ORGANIZER;CN="SHJJV":MAILTO:breitensportreferent@shjjv.de
END:VEVENT
BEGIN:VEVENT
DTSTART;VALUE=DATE:20251030
DTEND;VALUE=DATE:20251115
DTSTAMP:20260420T115635
CREATED:20241211T075800Z
LAST-MODIFIED:20250913T073504Z
UID:10000782-1761782400-1763164799@www.shjjv.de
SUMMARY:Junioren WM mit Master & U14
DESCRIPTION:Sei der Erste\, der diesen Beitrag teilt!
URL:https://www.shjjv.de/termin/junioren-wm-mit-master-u14/
LOCATION:Thailand\, Bangkok\, Thailand
CATEGORIES:Meisterschaften
ORGANIZER;CN="SHJJV Wettkampf":MAILTO:leistungssportreferent@shjjv.de
END:VEVENT
BEGIN:VEVENT
DTSTART;VALUE=DATE:20251031
DTEND;VALUE=DATE:20251101
DTSTAMP:20260420T115635
CREATED:20231001T083552Z
LAST-MODIFIED:20231001T083552Z
UID:10000612-1761868800-1761955199@www.shjjv.de
SUMMARY:Reformationstag
DESCRIPTION:Sei der Erste\, der diesen Beitrag teilt!
URL:https://www.shjjv.de/termin/reformationstag-2/2025-10-31/
CATEGORIES:Feiertag
END:VEVENT
END:VCALENDAR