BEGIN:VCALENDAR
VERSION:2.0
PRODID:-//Schleswig-Holsteinischer Ju-Jutsu-Verband e.V. - ECPv6.15.20//NONSGML v1.0//EN
CALSCALE:GREGORIAN
METHOD:PUBLISH
X-WR-CALNAME:Schleswig-Holsteinischer Ju-Jutsu-Verband e.V.
X-ORIGINAL-URL:https://www.shjjv.de
X-WR-CALDESC:Veranstaltungen für Schleswig-Holsteinischer Ju-Jutsu-Verband e.V.
REFRESH-INTERVAL;VALUE=DURATION:PT1H
X-Robots-Tag:noindex
X-PUBLISHED-TTL:PT1H
BEGIN:VTIMEZONE
TZID:Europe/Berlin
BEGIN:DAYLIGHT
TZOFFSETFROM:+0100
TZOFFSETTO:+0200
TZNAME:CEST
DTSTART:20230326T010000
END:DAYLIGHT
BEGIN:STANDARD
TZOFFSETFROM:+0200
TZOFFSETTO:+0100
TZNAME:CET
DTSTART:20231029T010000
END:STANDARD
BEGIN:DAYLIGHT
TZOFFSETFROM:+0100
TZOFFSETTO:+0200
TZNAME:CEST
DTSTART:20240331T010000
END:DAYLIGHT
BEGIN:STANDARD
TZOFFSETFROM:+0200
TZOFFSETTO:+0100
TZNAME:CET
DTSTART:20241027T010000
END:STANDARD
BEGIN:DAYLIGHT
TZOFFSETFROM:+0100
TZOFFSETTO:+0200
TZNAME:CEST
DTSTART:20250330T010000
END:DAYLIGHT
BEGIN:STANDARD
TZOFFSETFROM:+0200
TZOFFSETTO:+0100
TZNAME:CET
DTSTART:20251026T010000
END:STANDARD
END:VTIMEZONE
BEGIN:VEVENT
DTSTART;TZID=Europe/Berlin:20240504T100000
DTEND;TZID=Europe/Berlin:20240504T150000
DTSTAMP:20260420T194852
CREATED:20231230T171119Z
LAST-MODIFIED:20240104T083904Z
UID:10000678-1714816800-1714834800@www.shjjv.de
SUMMARY:Landeslehrgang für Behörden
DESCRIPTION:Landeslehrgang für Behörden\nThema: Dienstliches Einsatztraining für Vollzugsbeamte/-beamtinnen. Vermittlung von praktischen Anwendungsformen unter Berücksichtigung der Verhältnismäßigkeit.\nInhalt: SV\, Teamarbeit\, Zugriff (Takedowns)\, Anlegen der Handfesseln\, Anlegen vom Tourniquet.\nReferent: Herbert Bünning\, 6. Dan Ju-Jutsu / Christian Dost\, 2. Dan Ju-Jutsu / Tobias Braatz\, 1. Kyu Ju-Jutsu / Armin Fischer\, San-Ausbilder \nZeit: Samstag\, 04. Mai 2024\, 10:00 Uhr bis 15:00 Uhr (mit Pause)\nVeranstalter: Schleswig-Holsteinischer Ju-Jutsu Verband e.V.\nAusrichter: Turn- und Sportverein Heiligenhafen von 1889 e.V.\nOrt: Turnhalle am Kunstrasenplatz\, Lütjenburger Weg\, 23774 Heiligenhafen \nLeitung: Herbert Bünning \nAnmeldung: Per E-Mail bis zum 27. April 2024 an Herbert Bünning unter: hbuenning@aol.com\nBei der Anmeldung bitte die jeweilige Behörde / Dienststelle mit angeben. Um rechtzeitige Anmeldung wird gebeten. Die Teilnehmerzahl ist auf 50 Personen begrenzt. \nAusschreibung\nLaLe Behörden 04.05.2024 in Heiligenhafen \nSei der Erste\, der diesen Beitrag teilt!
URL:https://www.shjjv.de/termin/landeslehrgang-fuer-behoerden/
LOCATION:TSV Heiligenhafen\, Lütjenburger Weg 12\, Heiligenhafen\, 23774\, Deutschland
CATEGORIES:Landes-/Bundeslehrgang,Sonstiges
ORGANIZER;CN="SHJJV":MAILTO:breitensportreferent@shjjv.de
END:VEVENT
END:VCALENDAR