BEGIN:VCALENDAR
VERSION:2.0
PRODID:-//Schleswig-Holsteinischer Ju-Jutsu-Verband e.V. - ECPv6.15.20//NONSGML v1.0//EN
CALSCALE:GREGORIAN
METHOD:PUBLISH
X-WR-CALNAME:Schleswig-Holsteinischer Ju-Jutsu-Verband e.V.
X-ORIGINAL-URL:https://www.shjjv.de
X-WR-CALDESC:Veranstaltungen für Schleswig-Holsteinischer Ju-Jutsu-Verband e.V.
REFRESH-INTERVAL;VALUE=DURATION:PT1H
X-Robots-Tag:noindex
X-PUBLISHED-TTL:PT1H
BEGIN:VTIMEZONE
TZID:Europe/Berlin
BEGIN:DAYLIGHT
TZOFFSETFROM:+0100
TZOFFSETTO:+0200
TZNAME:CEST
DTSTART:20250330T010000
END:DAYLIGHT
BEGIN:STANDARD
TZOFFSETFROM:+0200
TZOFFSETTO:+0100
TZNAME:CET
DTSTART:20251026T010000
END:STANDARD
BEGIN:DAYLIGHT
TZOFFSETFROM:+0100
TZOFFSETTO:+0200
TZNAME:CEST
DTSTART:20260329T010000
END:DAYLIGHT
BEGIN:STANDARD
TZOFFSETFROM:+0200
TZOFFSETTO:+0100
TZNAME:CET
DTSTART:20261025T010000
END:STANDARD
BEGIN:DAYLIGHT
TZOFFSETFROM:+0100
TZOFFSETTO:+0200
TZNAME:CEST
DTSTART:20270328T010000
END:DAYLIGHT
BEGIN:STANDARD
TZOFFSETFROM:+0200
TZOFFSETTO:+0100
TZNAME:CET
DTSTART:20271031T010000
END:STANDARD
END:VTIMEZONE
BEGIN:VEVENT
DTSTART;TZID=Europe/Berlin:20260315T100000
DTEND;TZID=Europe/Berlin:20260315T180000
DTSTAMP:20260424T120130
CREATED:20251012T153832Z
LAST-MODIFIED:20251222T065609Z
UID:10000885-1773568800-1773597600@www.shjjv.de
SUMMARY:Sportassistentenausbildung / Grundmodul für Trainer C – Teil 2
DESCRIPTION:Sportassistentenausbildung / Grundmodul für Trainer C\nVeranstalter Schleswig-Holsteinischer Ju-Jutsu Verband e.V.\nAusrichter: Akatuki Kiel\nOrt: Diedrichstraße 2\, 24149 Kiel \nZeit:\nTeil 1:\nFreitag\,20.02.2026 Zoom:19.00 – 21.30 Uhr\nSamstag\, 21.02.2026 Präsenz: 10.00 – 18.00 Uhr\nSonntag\, 22.02.2026 Präsenz: 10.00 – 18.00 Uhr\nTeil 2:\nFreitag\, 13.03.2026 Zoom: 19.00 – 21.30 Uhr\nSamstag\, 14.03.2026 Präsenz: 10.00 – 18.00 Uhr\nSonntag\, 15.03.2026 Präsenz: 10.00 – 18.00 Uhr \nLeitung: Karina Schmidt\, Lehrreferentin des SHJJV \nAnmeldung: Per E-Mail mit dem Excel-Anmeldebogen bis zum 07.02.2026 an Rinke Karina Schmidt unter: lehrreferent@shjjv.de \nVoraussetzung:\nJu-Jutsu / Jiu-Jitsu: 4 Kyu zu Beginn der Ausbildung\nBJJ: Erwachsene White II / Jugend Yellow zu Beginn der AusbildungMindestalter 14 Jahre\, Befürwortung des Vereins (schriftlich) \nLehrgangskosten: 45\,00 € für Sportler(innen) mit DJJV-Beitragsmarke 2025 oder 2026\nBitte vorab nicht überweisen\, eventuell übernimmt das Land die Kosten\, der Antrag ist gestellt\, die Bewilligung ist noch nicht da. \nHinweis: Es sind 25 Plätze vorhanden.\nJede Anmeldung ist verbindlich und verpflichtet zur Zahlung der Teilnahmegebühr. Keine Rückerstattung der Teilnahmegebühr. \nDie Ausbildung ist Voraussetzung für die Trainer C Breitensport Ausbildung! \nAusschreibung / Unterlagen\nSportassistentenausbildung 2026\nMeldebogen Sportassistentenausbildung\nBefürwortung des Vereins
URL:https://www.shjjv.de/termin/sportassistentenausbildung-grundmodul-fuer-trainer-c-teil-2-2/2026-03-15/
LOCATION:Akatuki Kiel\, Diedrichstr. 2\, Kiel\, 24143\, Germany
CATEGORIES:Aus- und Fortbildung
ORGANIZER;CN="SHJJV":MAILTO:breitensportreferent@shjjv.de
END:VEVENT
BEGIN:VEVENT
DTSTART;TZID=Europe/Berlin:20260314T100000
DTEND;TZID=Europe/Berlin:20260314T180000
DTSTAMP:20260424T120130
CREATED:20251012T153832Z
LAST-MODIFIED:20251222T065609Z
UID:10000884-1773482400-1773511200@www.shjjv.de
SUMMARY:Sportassistentenausbildung / Grundmodul für Trainer C – Teil 2
DESCRIPTION:Sportassistentenausbildung / Grundmodul für Trainer C\nVeranstalter Schleswig-Holsteinischer Ju-Jutsu Verband e.V.\nAusrichter: Akatuki Kiel\nOrt: Diedrichstraße 2\, 24149 Kiel \nZeit:\nTeil 1:\nFreitag\,20.02.2026 Zoom:19.00 – 21.30 Uhr\nSamstag\, 21.02.2026 Präsenz: 10.00 – 18.00 Uhr\nSonntag\, 22.02.2026 Präsenz: 10.00 – 18.00 Uhr\nTeil 2:\nFreitag\, 13.03.2026 Zoom: 19.00 – 21.30 Uhr\nSamstag\, 14.03.2026 Präsenz: 10.00 – 18.00 Uhr\nSonntag\, 15.03.2026 Präsenz: 10.00 – 18.00 Uhr \nLeitung: Karina Schmidt\, Lehrreferentin des SHJJV \nAnmeldung: Per E-Mail mit dem Excel-Anmeldebogen bis zum 07.02.2026 an Rinke Karina Schmidt unter: lehrreferent@shjjv.de \nVoraussetzung:\nJu-Jutsu / Jiu-Jitsu: 4 Kyu zu Beginn der Ausbildung\nBJJ: Erwachsene White II / Jugend Yellow zu Beginn der AusbildungMindestalter 14 Jahre\, Befürwortung des Vereins (schriftlich) \nLehrgangskosten: 45\,00 € für Sportler(innen) mit DJJV-Beitragsmarke 2025 oder 2026\nBitte vorab nicht überweisen\, eventuell übernimmt das Land die Kosten\, der Antrag ist gestellt\, die Bewilligung ist noch nicht da. \nHinweis: Es sind 25 Plätze vorhanden.\nJede Anmeldung ist verbindlich und verpflichtet zur Zahlung der Teilnahmegebühr. Keine Rückerstattung der Teilnahmegebühr. \nDie Ausbildung ist Voraussetzung für die Trainer C Breitensport Ausbildung! \nAusschreibung / Unterlagen\nSportassistentenausbildung 2026\nMeldebogen Sportassistentenausbildung\nBefürwortung des Vereins
URL:https://www.shjjv.de/termin/sportassistentenausbildung-grundmodul-fuer-trainer-c-teil-2-2/2026-03-14/
LOCATION:Akatuki Kiel\, Diedrichstr. 2\, Kiel\, 24143\, Germany
CATEGORIES:Aus- und Fortbildung
ORGANIZER;CN="SHJJV":MAILTO:breitensportreferent@shjjv.de
END:VEVENT
BEGIN:VEVENT
DTSTART;TZID=Europe/Berlin:20260313T190000
DTEND;TZID=Europe/Berlin:20260315T213000
DTSTAMP:20260424T120130
CREATED:20251012T153832Z
LAST-MODIFIED:20251222T065609Z
UID:10000883-1773428400-1773610200@www.shjjv.de
SUMMARY:Sportassistentenausbildung / Grundmodul für Trainer C – Teil 2
DESCRIPTION:Sportassistentenausbildung / Grundmodul für Trainer C\nVeranstalter Schleswig-Holsteinischer Ju-Jutsu Verband e.V.\nAusrichter: Akatuki Kiel\nOrt: Diedrichstraße 2\, 24149 Kiel \nZeit:\nTeil 1:\nFreitag\,20.02.2026 Zoom:19.00 – 21.30 Uhr\nSamstag\, 21.02.2026 Präsenz: 10.00 – 18.00 Uhr\nSonntag\, 22.02.2026 Präsenz: 10.00 – 18.00 Uhr\nTeil 2:\nFreitag\, 13.03.2026 Zoom: 19.00 – 21.30 Uhr\nSamstag\, 14.03.2026 Präsenz: 10.00 – 18.00 Uhr\nSonntag\, 15.03.2026 Präsenz: 10.00 – 18.00 Uhr \nLeitung: Karina Schmidt\, Lehrreferentin des SHJJV \nAnmeldung: Per E-Mail mit dem Excel-Anmeldebogen bis zum 07.02.2026 an Rinke Karina Schmidt unter: lehrreferent@shjjv.de \nVoraussetzung:\nJu-Jutsu / Jiu-Jitsu: 4 Kyu zu Beginn der Ausbildung\nBJJ: Erwachsene White II / Jugend Yellow zu Beginn der AusbildungMindestalter 14 Jahre\, Befürwortung des Vereins (schriftlich) \nLehrgangskosten: 45\,00 € für Sportler(innen) mit DJJV-Beitragsmarke 2025 oder 2026\nBitte vorab nicht überweisen\, eventuell übernimmt das Land die Kosten\, der Antrag ist gestellt\, die Bewilligung ist noch nicht da. \nHinweis: Es sind 25 Plätze vorhanden.\nJede Anmeldung ist verbindlich und verpflichtet zur Zahlung der Teilnahmegebühr. Keine Rückerstattung der Teilnahmegebühr. \nDie Ausbildung ist Voraussetzung für die Trainer C Breitensport Ausbildung! \nAusschreibung / Unterlagen\nSportassistentenausbildung 2026\nMeldebogen Sportassistentenausbildung\nBefürwortung des Vereins
URL:https://www.shjjv.de/termin/sportassistentenausbildung-grundmodul-fuer-trainer-c-teil-2-2/2026-03-13/
LOCATION:Akatuki Kiel\, Diedrichstr. 2\, Kiel\, 24143\, Germany
CATEGORIES:Aus- und Fortbildung
ORGANIZER;CN="SHJJV":MAILTO:breitensportreferent@shjjv.de
END:VEVENT
BEGIN:VEVENT
DTSTART;TZID=Europe/Berlin:20260222T100000
DTEND;TZID=Europe/Berlin:20260222T180000
DTSTAMP:20260424T120130
CREATED:20251012T153251Z
LAST-MODIFIED:20251222T065618Z
UID:10000882-1771754400-1771783200@www.shjjv.de
SUMMARY:Sportassistentenausbildung / Grundmodul für Trainer C – Teil 1
DESCRIPTION:Sportassistentenausbildung / Grundmodul für Trainer C\nVeranstalter Schleswig-Holsteinischer Ju-Jutsu Verband e.V.\nAusrichter: Akatuki Kiel\nOrt: Diedrichstraße 2\, 24149 Kiel \nZeit:\nTeil 1:\nFreitag\,20.02.2026 Zoom:19.00 – 21.30 Uhr\nSamstag\, 21.02.2026 Präsenz: 10.00 – 18.00 Uhr\nSonntag\, 22.02.2026 Präsenz: 10.00 – 18.00 Uhr\nTeil 2:\nFreitag\, 13.03.2026 Zoom: 19.00 – 21.30 Uhr\nSamstag\, 14.03.2026 Präsenz: 10.00 – 18.00 Uhr\nSonntag\, 15.03.2026 Präsenz: 10.00 – 18.00 Uhr \nLeitung: Karina Schmidt\, Lehrreferentin des SHJJV \nAnmeldung: Per E-Mail mit dem Excel-Anmeldebogen bis zum 07.02.2026 an Rinke Karina Schmidt unter: lehrreferent@shjjv.de \nVoraussetzung:\nJu-Jutsu / Jiu-Jitsu: 4 Kyu zu Beginn der Ausbildung\nBJJ: Erwachsene White II / Jugend Yellow zu Beginn der AusbildungMindestalter 14 Jahre\, Befürwortung des Vereins (schriftlich) \nLehrgangskosten: 45\,00 € für Sportler(innen) mit DJJV-Beitragsmarke 2025 oder 2026\nBitte vorab nicht überweisen\, eventuell übernimmt das Land die Kosten\, der Antrag ist gestellt\, die Bewilligung ist noch nicht da. \nHinweis: Es sind 25 Plätze vorhanden.\nJede Anmeldung ist verbindlich und verpflichtet zur Zahlung der Teilnahmegebühr. Keine Rückerstattung der Teilnahmegebühr. \nDie Ausbildung ist Voraussetzung für die Trainer C Breitensport Ausbildung! \nAusschreibung / Unterlagen\nSportassistentenausbildung 2026\nMeldebogen Sportassistentenausbildung\nBefürwortung des Vereins
URL:https://www.shjjv.de/termin/sportassistentenausbildung-grundmodul-fuer-trainer-c-teil-1-2/2026-02-22/
LOCATION:Akatuki Kiel\, Diedrichstr. 2\, Kiel\, 24143\, Germany
CATEGORIES:Aus- und Fortbildung
ORGANIZER;CN="SHJJV":MAILTO:breitensportreferent@shjjv.de
END:VEVENT
BEGIN:VEVENT
DTSTART;TZID=Europe/Berlin:20260221T100000
DTEND;TZID=Europe/Berlin:20260221T180000
DTSTAMP:20260424T120130
CREATED:20251012T153251Z
LAST-MODIFIED:20251222T065618Z
UID:10000881-1771668000-1771696800@www.shjjv.de
SUMMARY:Sportassistentenausbildung / Grundmodul für Trainer C – Teil 1
DESCRIPTION:Sportassistentenausbildung / Grundmodul für Trainer C\nVeranstalter Schleswig-Holsteinischer Ju-Jutsu Verband e.V.\nAusrichter: Akatuki Kiel\nOrt: Diedrichstraße 2\, 24149 Kiel \nZeit:\nTeil 1:\nFreitag\,20.02.2026 Zoom:19.00 – 21.30 Uhr\nSamstag\, 21.02.2026 Präsenz: 10.00 – 18.00 Uhr\nSonntag\, 22.02.2026 Präsenz: 10.00 – 18.00 Uhr\nTeil 2:\nFreitag\, 13.03.2026 Zoom: 19.00 – 21.30 Uhr\nSamstag\, 14.03.2026 Präsenz: 10.00 – 18.00 Uhr\nSonntag\, 15.03.2026 Präsenz: 10.00 – 18.00 Uhr \nLeitung: Karina Schmidt\, Lehrreferentin des SHJJV \nAnmeldung: Per E-Mail mit dem Excel-Anmeldebogen bis zum 07.02.2026 an Rinke Karina Schmidt unter: lehrreferent@shjjv.de \nVoraussetzung:\nJu-Jutsu / Jiu-Jitsu: 4 Kyu zu Beginn der Ausbildung\nBJJ: Erwachsene White II / Jugend Yellow zu Beginn der AusbildungMindestalter 14 Jahre\, Befürwortung des Vereins (schriftlich) \nLehrgangskosten: 45\,00 € für Sportler(innen) mit DJJV-Beitragsmarke 2025 oder 2026\nBitte vorab nicht überweisen\, eventuell übernimmt das Land die Kosten\, der Antrag ist gestellt\, die Bewilligung ist noch nicht da. \nHinweis: Es sind 25 Plätze vorhanden.\nJede Anmeldung ist verbindlich und verpflichtet zur Zahlung der Teilnahmegebühr. Keine Rückerstattung der Teilnahmegebühr. \nDie Ausbildung ist Voraussetzung für die Trainer C Breitensport Ausbildung! \nAusschreibung / Unterlagen\nSportassistentenausbildung 2026\nMeldebogen Sportassistentenausbildung\nBefürwortung des Vereins
URL:https://www.shjjv.de/termin/sportassistentenausbildung-grundmodul-fuer-trainer-c-teil-1-2/2026-02-21/
LOCATION:Akatuki Kiel\, Diedrichstr. 2\, Kiel\, 24143\, Germany
CATEGORIES:Aus- und Fortbildung
ORGANIZER;CN="SHJJV":MAILTO:breitensportreferent@shjjv.de
END:VEVENT
BEGIN:VEVENT
DTSTART;TZID=Europe/Berlin:20260220T190000
DTEND;TZID=Europe/Berlin:20260222T213000
DTSTAMP:20260424T120130
CREATED:20251012T153251Z
LAST-MODIFIED:20251222T065618Z
UID:10000880-1771614000-1771795800@www.shjjv.de
SUMMARY:Sportassistentenausbildung / Grundmodul für Trainer C – Teil 1
DESCRIPTION:Sportassistentenausbildung / Grundmodul für Trainer C\nVeranstalter Schleswig-Holsteinischer Ju-Jutsu Verband e.V.\nAusrichter: Akatuki Kiel\nOrt: Diedrichstraße 2\, 24149 Kiel \nZeit:\nTeil 1:\nFreitag\,20.02.2026 Zoom:19.00 – 21.30 Uhr\nSamstag\, 21.02.2026 Präsenz: 10.00 – 18.00 Uhr\nSonntag\, 22.02.2026 Präsenz: 10.00 – 18.00 Uhr\nTeil 2:\nFreitag\, 13.03.2026 Zoom: 19.00 – 21.30 Uhr\nSamstag\, 14.03.2026 Präsenz: 10.00 – 18.00 Uhr\nSonntag\, 15.03.2026 Präsenz: 10.00 – 18.00 Uhr \nLeitung: Karina Schmidt\, Lehrreferentin des SHJJV \nAnmeldung: Per E-Mail mit dem Excel-Anmeldebogen bis zum 07.02.2026 an Rinke Karina Schmidt unter: lehrreferent@shjjv.de \nVoraussetzung:\nJu-Jutsu / Jiu-Jitsu: 4 Kyu zu Beginn der Ausbildung\nBJJ: Erwachsene White II / Jugend Yellow zu Beginn der AusbildungMindestalter 14 Jahre\, Befürwortung des Vereins (schriftlich) \nLehrgangskosten: 45\,00 € für Sportler(innen) mit DJJV-Beitragsmarke 2025 oder 2026\nBitte vorab nicht überweisen\, eventuell übernimmt das Land die Kosten\, der Antrag ist gestellt\, die Bewilligung ist noch nicht da. \nHinweis: Es sind 25 Plätze vorhanden.\nJede Anmeldung ist verbindlich und verpflichtet zur Zahlung der Teilnahmegebühr. Keine Rückerstattung der Teilnahmegebühr. \nDie Ausbildung ist Voraussetzung für die Trainer C Breitensport Ausbildung! \nAusschreibung / Unterlagen\nSportassistentenausbildung 2026\nMeldebogen Sportassistentenausbildung\nBefürwortung des Vereins
URL:https://www.shjjv.de/termin/sportassistentenausbildung-grundmodul-fuer-trainer-c-teil-1-2/2026-02-20/
LOCATION:Akatuki Kiel\, Diedrichstr. 2\, Kiel\, 24143\, Germany
CATEGORIES:Aus- und Fortbildung
ORGANIZER;CN="SHJJV":MAILTO:breitensportreferent@shjjv.de
END:VEVENT
END:VCALENDAR