BEGIN:VCALENDAR
VERSION:2.0
PRODID:-//Schleswig-Holsteinischer Ju-Jutsu-Verband e.V. - ECPv6.15.20//NONSGML v1.0//EN
CALSCALE:GREGORIAN
METHOD:PUBLISH
X-WR-CALNAME:Schleswig-Holsteinischer Ju-Jutsu-Verband e.V.
X-ORIGINAL-URL:https://www.shjjv.de
X-WR-CALDESC:Veranstaltungen für Schleswig-Holsteinischer Ju-Jutsu-Verband e.V.
REFRESH-INTERVAL;VALUE=DURATION:PT1H
X-Robots-Tag:noindex
X-PUBLISHED-TTL:PT1H
BEGIN:VTIMEZONE
TZID:Europe/Berlin
BEGIN:DAYLIGHT
TZOFFSETFROM:+0100
TZOFFSETTO:+0200
TZNAME:CEST
DTSTART:20230326T010000
END:DAYLIGHT
BEGIN:STANDARD
TZOFFSETFROM:+0200
TZOFFSETTO:+0100
TZNAME:CET
DTSTART:20231029T010000
END:STANDARD
BEGIN:DAYLIGHT
TZOFFSETFROM:+0100
TZOFFSETTO:+0200
TZNAME:CEST
DTSTART:20240331T010000
END:DAYLIGHT
BEGIN:STANDARD
TZOFFSETFROM:+0200
TZOFFSETTO:+0100
TZNAME:CET
DTSTART:20241027T010000
END:STANDARD
BEGIN:DAYLIGHT
TZOFFSETFROM:+0100
TZOFFSETTO:+0200
TZNAME:CEST
DTSTART:20250330T010000
END:DAYLIGHT
BEGIN:STANDARD
TZOFFSETFROM:+0200
TZOFFSETTO:+0100
TZNAME:CET
DTSTART:20251026T010000
END:STANDARD
BEGIN:DAYLIGHT
TZOFFSETFROM:+0100
TZOFFSETTO:+0200
TZNAME:CEST
DTSTART:20260329T010000
END:DAYLIGHT
BEGIN:STANDARD
TZOFFSETFROM:+0200
TZOFFSETTO:+0100
TZNAME:CET
DTSTART:20261025T010000
END:STANDARD
END:VTIMEZONE
BEGIN:VEVENT
DTSTART;TZID=Europe/Berlin:20251129T130000
DTEND;TZID=Europe/Berlin:20251130T113000
DTSTAMP:20260424T132127
CREATED:20241027T172041Z
LAST-MODIFIED:20251010T201406Z
UID:10000755-1764421200-1764502200@www.shjjv.de
SUMMARY:Jahresabschlusslehrgang 2025
DESCRIPTION:Landestechnik- und Jahresabschlusslehrgang 2025\nThema:\nKomplexe Verkettungen von Hebel-\, Festlege- u. Transporttechniken und Würfen (P. Schneider)\nKlassisches Jiu-Jitsu gegen Kontaktangriffe (G. Blankenburg-Hollender) \nInhalt:\nKombinationen: Stand-Boden-Fest-/-Stand (P. Schneider)\nRealistische Verteidigung gegen Kontaktangriffe (G. Blankenburg-Hollender) \nReferenten:\nPeter Schneider – 10. Dan Jiu-Jitsu\nGaby Blankenburg-Hollender – 2. Dan Jiu-Jitsu \nZeit: Samstag\, 29. November 2025\, 14.00 Uhr – 17.30 Uhr Peter Schneider\nSonntag\, 30. November 2025\, 09.00 Uhr – 11.30 Uhr: Gaby Blankenburg-Hollender\nAnreise: Samstag\, 29.11.2025 ab 13.00 Uhr Anmeldung \nVeranstalter: Schleswig-Holsteinischer Ju-Jutsu Verband e.V.\nAusrichter: Schleswig-Holsteinischer Ju-Jutsu Verband e.V.\nOrt: Sport- und Bildungszentrum\, Eutiner Straße 45\, 23714 Bad Malente-Gremsmühlen\nLeitung: Peter Schneider\, Referent Jiu-Jitsu im SHJJV \nAnmeldung: Schriftlich per E-Mail bis zum 07. November 2025 an: jiu-referent@shjjv.de \nUpdate 10.10.2025\nDie Übernachtungsplätze sind ausgebucht\, es können nur noch Plätze auf der Warteliste vergeben werden.\nTagesgäste ohne Übernachtung im Sportzentrum sind weiterhin willkommen. \nAusschreibung\nLaTeLe 29.11.2025 und 30.11.2025 Jahresabschlusslehrgang in Malente
URL:https://www.shjjv.de/termin/jahresabschlusslehrgang/
LOCATION:Sport- und Bildungszentrum Malente\, Eutiner Str. 45\, Malente\, 23714
CATEGORIES:Landes-/Bundeslehrgang
ORGANIZER;CN="SHJJV":MAILTO:breitensportreferent@shjjv.de
GEO:54.163812;10.562687
X-APPLE-STRUCTURED-LOCATION;VALUE=URI;X-ADDRESS=Sport- und Bildungszentrum Malente Eutiner Str. 45 Malente 23714;X-APPLE-RADIUS=500;X-TITLE=Eutiner Str. 45:geo:10.562687,54.163812
END:VEVENT
BEGIN:VEVENT
DTSTART;TZID=Europe/Berlin:20241130T130000
DTEND;TZID=Europe/Berlin:20241201T120000
DTSTAMP:20260424T132128
CREATED:20231001T091337Z
LAST-MODIFIED:20241013T193453Z
UID:10000653-1732971600-1733054400@www.shjjv.de
SUMMARY:Jahresabschlusslehrgang
DESCRIPTION:Landestechnik- und Jahresabschlusslehrgang 2024\nThema: Wurf-\, Gegen- und Weiterführungstechniken (Peter Schneider)\, Atemitechniken aus der Halb-/Nahdistanz mit anschließender Kontrolle des Gegners (Arne Kulok)\nInhalt: Würfe in der SV angewendet\, Gegen- und Weiterführungstechniken bei eventuellen Angriffen mit Budotechniken\, Realistische Anwendungen von Atemitechniken mit Wurf- und Festlegetechniken\nReferenten: Peter Schneider\, 10. Dan Jiu-Jitsu;  Arne Kulok\, 5. Dan Ju-Jutsu\, Trainer-A Ju-Jutsu \nZeit:\nSamstag\, 30. November 2024\, 14.00 Uhr – 17.30 Uhr Peter Schneider\nSonntag\, 01. Dezember 2024 09.00 Uhr – 11.45 Uhr: Frank-Arne Kulok\nAnreise: Samstag\, 30.11.2024\, ab 13.00 Uhr Anmeldung\nVeranstalter: Schleswig-Holsteinischer Ju-Jutsu Verband e.V.\nAusrichter: Schleswig-Holsteinischer Ju-Jutsu Verband e.V.\nOrt: Sport- und Bildungszentrum\, Eutiner Straße 45\, 23714 Bad Malente-Gremsmühlen\nLeitung: Peter Schneider\, Referent Jiu-Jitsu im SHJJV \nAnmeldung: Schriftlich per E-Mail bis zum 07. November 2024 an: jiu-referent@shjjv.de \nUpdate: Übernachtungsplätze sind ausgebucht. Aktuell sind nur noch Tagesplätze vorhanden. \nBitte bei Anmeldung unbedingt Übernachtungswunsch\, Verein\, Alter\, Geschlecht und DJJV-Landesverband angeben. Da nur 20 Übernachtungsplätze zur Verfügung stehen\, werden diese nach der Reihenfolge der Meldeeingänge vergeben.\nDie Unterbringung erfolgt in Mehrbettzimmern (in der Regel 2er- oder 4er-Zimmer). Die Teilnehmer/innen haben keinen Anspruch auf einen bestimmten Zimmertyp.\nDie Teilnehmerzahl ist insgesamt auf 50 Sportler/innen begrenzt. \nAusschreibung\nLaTeLe 30.11.2024 und 01.12.2024 Jahresabschlusslehrgang in Malente
URL:https://www.shjjv.de/termin/jahresabschlusslehrgang-2/
LOCATION:Sport- und Bildungszentrum Malente\, Eutiner Str. 45\, Malente\, 23714
CATEGORIES:Landes-/Bundeslehrgang
ORGANIZER;CN="SHJJV":MAILTO:breitensportreferent@shjjv.de
GEO:54.163812;10.562687
X-APPLE-STRUCTURED-LOCATION;VALUE=URI;X-ADDRESS=Sport- und Bildungszentrum Malente Eutiner Str. 45 Malente 23714;X-APPLE-RADIUS=500;X-TITLE=Eutiner Str. 45:geo:10.562687,54.163812
END:VEVENT
BEGIN:VEVENT
DTSTART;TZID=Europe/Berlin:20241018T080000
DTEND;TZID=Europe/Berlin:20241019T170000
DTSTAMP:20260424T132128
CREATED:20241013T194129Z
LAST-MODIFIED:20241013T194225Z
UID:10000718-1729238400-1729357200@www.shjjv.de
SUMMARY:Landeskader-Trainingslager
DESCRIPTION:
URL:https://www.shjjv.de/termin/landeskader-trainingslager/
LOCATION:Sport- und Bildungszentrum Malente\, Eutiner Str. 45\, Malente\, 23714
CATEGORIES:Kader
ORGANIZER;CN="SHJJV Wettkampf":MAILTO:leistungssportreferent@shjjv.de
GEO:54.163812;10.562687
X-APPLE-STRUCTURED-LOCATION;VALUE=URI;X-ADDRESS=Sport- und Bildungszentrum Malente Eutiner Str. 45 Malente 23714;X-APPLE-RADIUS=500;X-TITLE=Eutiner Str. 45:geo:10.562687,54.163812
END:VEVENT
END:VCALENDAR